BEGIN:VCALENDAR
VERSION:2.0
PRODID:-//Old Courthouse Heritage Museum - ECPv6.15.20//NONSGML v1.0//EN
CALSCALE:GREGORIAN
METHOD:PUBLISH
X-WR-CALNAME:Old Courthouse Heritage Museum
X-ORIGINAL-URL:https://cccourthouse.org
X-WR-CALDESC:Events for Old Courthouse Heritage Museum
REFRESH-INTERVAL;VALUE=DURATION:PT1H
X-Robots-Tag:noindex
X-PUBLISHED-TTL:PT1H
BEGIN:VTIMEZONE
TZID:America/New_York
BEGIN:DAYLIGHT
TZOFFSETFROM:-0500
TZOFFSETTO:-0400
TZNAME:EDT
DTSTART:20240310T070000
END:DAYLIGHT
BEGIN:STANDARD
TZOFFSETFROM:-0400
TZOFFSETTO:-0500
TZNAME:EST
DTSTART:20241103T060000
END:STANDARD
BEGIN:DAYLIGHT
TZOFFSETFROM:-0500
TZOFFSETTO:-0400
TZNAME:EDT
DTSTART:20250309T070000
END:DAYLIGHT
BEGIN:STANDARD
TZOFFSETFROM:-0400
TZOFFSETTO:-0500
TZNAME:EST
DTSTART:20251102T060000
END:STANDARD
BEGIN:DAYLIGHT
TZOFFSETFROM:-0500
TZOFFSETTO:-0400
TZNAME:EDT
DTSTART:20260308T070000
END:DAYLIGHT
BEGIN:STANDARD
TZOFFSETFROM:-0400
TZOFFSETTO:-0500
TZNAME:EST
DTSTART:20261101T060000
END:STANDARD
END:VTIMEZONE
BEGIN:VEVENT
DTSTART;TZID=America/New_York:20251206T130000
DTEND;TZID=America/New_York:20251206T134500
DTSTAMP:20260424T192911
CREATED:20251007T191256Z
LAST-MODIFIED:20251007T191256Z
UID:17378-1765026000-1765028700@cccourthouse.org
SUMMARY:Free Kids' Holiday Music Class: Ukulele Lesson
DESCRIPTION:The Old Courthouse Heritage Museum presents a Free Kids’ Holiday Music Class with a Ukulele lesson. This class will be instructed by Miss Susan from Amy Clovis Piano Studio and Citrus Music Garden.\nThe class is for kids ages 7 and up. Spaces are limited and may fill in advance. Please preregister by calling the museum office at (352) 341-6428.
URL:https://cccourthouse.org/event/free-kids-holiday-music-class-ukulele-lesson/
LOCATION:Old Courthouse Heritage Museum\, 1 Courthouse Square\, Inverness\, FL\, 34450\, United States
ATTACH;FMTTYPE=image/png:https://cccourthouse.org/wp-content/uploads/2025/10/Dec-6-2025-Holiday-Ukulele-Class.png
END:VEVENT
BEGIN:VEVENT
DTSTART;TZID=America/New_York:20251207T160000
DTEND;TZID=America/New_York:20251207T180000
DTSTAMP:20260424T192911
CREATED:20250923T162503Z
LAST-MODIFIED:20251002T150805Z
UID:17356-1765123200-1765130400@cccourthouse.org
SUMMARY:Music at the Museum with Greta Pope and Jazz Trio
DESCRIPTION:This December\, Music at the Museum presents Greta Pope accompanied by a jazz trio. Get in the holiday spirit at this fun-filled event! From Jazz to Opera\, and Rhythm & Blues to Broadway\, Ms. Pope has performed with Wynonna Judd\, Dick Van Dyke\, Penn & Teller\, Boy George\, & more! Doors at 3 pm. Show at 4 pm. Light snacks & soft drinks! Tickets are $25 with $5 discounts for up to 4 tickets for Historical Society members!\nFor more information or to purchase tickets\, call (352) 341-6428 or visit: CCcourthouse.org/events\n1 Courthouse Square Inverness\, FL 34450
URL:https://cccourthouse.org/event/music-at-the-museum-with-greta-pope-and-jazz-trio/
LOCATION:Old Courthouse Heritage Museum\, 1 Courthouse Square\, Inverness\, FL\, 34450\, United States
ATTACH;FMTTYPE=image/png:https://cccourthouse.org/wp-content/uploads/2025/09/2025-Greta-Pope-Christmas-flyer.png
ORGANIZER;CN="Citrus County Historical Society":MAILTO:csociety@tampabay.rr.com
END:VEVENT
BEGIN:VEVENT
DTSTART;TZID=America/New_York:20251212T190000
DTEND;TZID=America/New_York:20251212T203000
DTSTAMP:20260424T192911
CREATED:20250927T142441Z
LAST-MODIFIED:20250927T142441Z
UID:17359-1765566000-1765571400@cccourthouse.org
SUMMARY:Christmas Tribute to Elvis with Billy Lindsey
DESCRIPTION:Join us outside The Old Courthouse Heritage Museum for a free concert on Friday\, December 12\, 2025 at 7 pm. We’ll host a Christmas Tribute to Elvis with Billy Lindsey next to the iconic Christmas tree where you’ll be dazzled by 3\,600 computer lights. Bring a chair with you and choose your spot outside. This event is sponsored by Downtown Inverness Business Partnership with additional event organizers from Citrus County Parks and Recreation\, Citrus County Historical Society and The Old Courthouse Heritage Museum.
URL:https://cccourthouse.org/event/christmas-tribute-to-elvis-with-billy-lindsey/
LOCATION:Old Courthouse Heritage Museum\, 1 Courthouse Square\, Inverness\, FL\, 34450\, United States
ATTACH;FMTTYPE=image/png:https://cccourthouse.org/wp-content/uploads/2025/09/Billy-Lindsey-Elvis-Dec-2025.png
END:VEVENT
BEGIN:VEVENT
DTSTART;TZID=America/New_York:20251213T090000
DTEND;TZID=America/New_York:20251213T100000
DTSTAMP:20260424T192911
CREATED:20251121T134858Z
LAST-MODIFIED:20251121T134858Z
UID:17492-1765616400-1765620000@cccourthouse.org
SUMMARY:Inverness Walks: Historic Downtown Walking Tour
DESCRIPTION:Join staff from The Old Courthouse Heritage Museum and Citrus County Historical Society for our monthly Historic Downtown Walking Tour. Together\, we’ll explore the downtown area and you’ll learn the history of the who\, how\, and why of the buildings around the Downtown Square. At 9 am every second Saturday of the month. Tour lasts for about an hour. $5 suggested donation for adults and $2 for children. Spaces are limited. Please RSVP by calling our office between Tuesday and Saturday at (352) 341-6428.
URL:https://cccourthouse.org/event/inverness-walks-historic-downtown-walking-tour-31/
LOCATION:Old Courthouse Heritage Museum\, 1 Courthouse Square\, Inverness\, FL\, 34450\, United States
ATTACH;FMTTYPE=image/png:https://cccourthouse.org/wp-content/uploads/2025/11/Inverness-Walks-Flyer.png
END:VEVENT
BEGIN:VEVENT
DTSTART;TZID=America/New_York:20251220T130000
DTEND;TZID=America/New_York:20251220T143000
DTSTAMP:20260424T192911
CREATED:20250910T161426Z
LAST-MODIFIED:20250910T161426Z
UID:17310-1766235600-1766241000@cccourthouse.org
SUMMARY:Free Kids' Christmas Crafternoon
DESCRIPTION:On Saturday\, December 20th at 1:00 pm\, Citrus County Parks and Recreation and The Old Courthouse Heritage Museum present a Free Kids’ Christmas Crafternoon.\nLearn in a guided instruction how to make a reindeer and a paint a Grinch and/or other other holiday-themed ornaments. For kids ages 4 and up! Spaces are limited\, and may fill in advance. Preregistration is required. To sign up\, please call the museum office at (352) 341-6428.
URL:https://cccourthouse.org/event/free-kids-christmas-crafternoon-2/
LOCATION:Old Courthouse Heritage Museum\, 1 Courthouse Square\, Inverness\, FL\, 34450\, United States
ATTACH;FMTTYPE=image/png:https://cccourthouse.org/wp-content/uploads/2025/09/2025-Dec-20-Christmas-crafternoon-flyer.png
ORGANIZER;CN="Citrus County Parks and Recreation":MAILTO:museum@citrusbocc.com
END:VEVENT
END:VCALENDAR