BEGIN:VCALENDAR
VERSION:2.0
PRODID:-//Old Courthouse Heritage Museum - ECPv6.15.20//NONSGML v1.0//EN
CALSCALE:GREGORIAN
METHOD:PUBLISH
X-WR-CALNAME:Old Courthouse Heritage Museum
X-ORIGINAL-URL:https://cccourthouse.org
X-WR-CALDESC:Events for Old Courthouse Heritage Museum
REFRESH-INTERVAL;VALUE=DURATION:PT1H
X-Robots-Tag:noindex
X-PUBLISHED-TTL:PT1H
BEGIN:VTIMEZONE
TZID:America/New_York
BEGIN:DAYLIGHT
TZOFFSETFROM:-0500
TZOFFSETTO:-0400
TZNAME:EDT
DTSTART:20240310T070000
END:DAYLIGHT
BEGIN:STANDARD
TZOFFSETFROM:-0400
TZOFFSETTO:-0500
TZNAME:EST
DTSTART:20241103T060000
END:STANDARD
BEGIN:DAYLIGHT
TZOFFSETFROM:-0500
TZOFFSETTO:-0400
TZNAME:EDT
DTSTART:20250309T070000
END:DAYLIGHT
BEGIN:STANDARD
TZOFFSETFROM:-0400
TZOFFSETTO:-0500
TZNAME:EST
DTSTART:20251102T060000
END:STANDARD
BEGIN:DAYLIGHT
TZOFFSETFROM:-0500
TZOFFSETTO:-0400
TZNAME:EDT
DTSTART:20260308T070000
END:DAYLIGHT
BEGIN:STANDARD
TZOFFSETFROM:-0400
TZOFFSETTO:-0500
TZNAME:EST
DTSTART:20261101T060000
END:STANDARD
END:VTIMEZONE
BEGIN:VEVENT
DTSTART;TZID=America/New_York:20251101T130000
DTEND;TZID=America/New_York:20251101T143000
DTSTAMP:20260424T210933
CREATED:20250923T155258Z
LAST-MODIFIED:20250923T155258Z
UID:17341-1762002000-1762007400@cccourthouse.org
SUMMARY:Free Kids' Crafternoon: Turkey Trinkets
DESCRIPTION:Bring the kids to join staff members at The Old Courthouse Heritage Museum for a free Kids’ Crafternoon where we will make turkey trinkets!\nWe’ll create magnets and more! Recommended for kids ages 3 and up. Limited supplies and spaces. Please call to preregister in advance: (352) 341-6428.\nThis event takes place just after the Market at the Depot down the street next to the playground at Liberty Park (market hours are 9 am to 1 pm). The market offers crafts\, food trucks\, and live music. Make your Saturday a fun family day out in Downtown Inverness!
URL:https://cccourthouse.org/event/free-kids-crafternoon-turkey-trinkets/
LOCATION:Old Courthouse Heritage Museum\, 1 Courthouse Square\, Inverness\, FL\, 34450\, United States
ATTACH;FMTTYPE=image/png:https://cccourthouse.org/wp-content/uploads/2025/09/2025-November-Turkey-crafts.png
END:VEVENT
BEGIN:VEVENT
DTSTART;TZID=America/New_York:20251106T190000
DTEND;TZID=America/New_York:20251106T203000
DTSTAMP:20260424T210933
CREATED:20250923T155614Z
LAST-MODIFIED:20250923T155614Z
UID:17344-1762455600-1762461000@cccourthouse.org
SUMMARY:Free Coffee and Conversation: The Life of Otters
DESCRIPTION:The Old Courthouse Heritage Museum presents a free Coffee and Conversation about the Life of Otters! Join conservation photographer Linda Wilinski for an inspiring and educational lecture that dives into the secretive and spirited world of North American river otters. Complimentary coffee and light refreshments will be served. Please RSVP by calling the museum office at (352) 341-6428.
URL:https://cccourthouse.org/event/free-coffee-and-conversation-the-life-of-otters/
LOCATION:Old Courthouse Heritage Museum\, 1 Courthouse Square\, Inverness\, FL\, 34450\, United States
ATTACH;FMTTYPE=image/jpeg:https://cccourthouse.org/wp-content/uploads/2025/09/Life-002-scaled.jpg
END:VEVENT
BEGIN:VEVENT
DTSTART;TZID=America/New_York:20251108T090000
DTEND;TZID=America/New_York:20251108T100000
DTSTAMP:20260424T210933
CREATED:20250923T160101Z
LAST-MODIFIED:20250923T160101Z
UID:17347-1762592400-1762596000@cccourthouse.org
SUMMARY:Inverness Walks: Historic Downtown Walking Tour
DESCRIPTION:Join staff from The Old Courthouse Heritage Museum and Citrus County Historical Society for our monthly Historic Downtown Walking Tour. Together\, we’ll explore the downtown area and you’ll learn the history of the who\, how\, and why of the buildings around the Downtown Square. At 9 am every second Saturday of the month. Tour lasts for about an hour. $5 suggested donation for adults and $2 for children. Spaces are limited. Please RSVP by calling our office between Tuesday and Saturday at (352) 341-6428.
URL:https://cccourthouse.org/event/inverness-walks-historic-downtown-walking-tour-30/
LOCATION:Old Courthouse Heritage Museum\, 1 Courthouse Square\, Inverness\, FL\, 34450\, United States
ATTACH;FMTTYPE=image/png:https://cccourthouse.org/wp-content/uploads/2025/09/Inverness-Walks-Flyer.png
ORGANIZER;CN="Citrus County Historical Society":MAILTO:csociety@tampabay.rr.com
END:VEVENT
BEGIN:VEVENT
DTSTART;TZID=America/New_York:20251113T190000
DTEND;TZID=America/New_York:20251113T210000
DTSTAMP:20260424T210933
CREATED:20250923T160454Z
LAST-MODIFIED:20251002T150736Z
UID:17350-1763060400-1763067600@cccourthouse.org
SUMMARY:Music at the Museum: The Nashville Impostors
DESCRIPTION:On Thursday\, November 13th\, at 7:00 pm\, the Old Courthouse Heritage Museum presents Music at the Museum with The Nashville Impostors. This duo transports you back to the golden era of country music with the magical sound of fiddles\, pedal steel guitars\, pianos\, harmonicas\, and family harmony. Tickets are $25.00 with a $5 discount available to members of Citrus County Historical Society on up to 4 tickets per show. Light snacks and soft drinks will be served. Doors open at 6 pm. Show begins at 7 pm. For tickets\, call (352) 341-6428 or visit www.CCcourthouse.org/events
URL:https://cccourthouse.org/event/music-at-the-museum-the-nashville-impostors/
LOCATION:Old Courthouse Heritage Museum\, 1 Courthouse Square\, Inverness\, FL\, 34450\, United States
ATTACH;FMTTYPE=image/png:https://cccourthouse.org/wp-content/uploads/2025/09/2025-Nashville-Impostors-flyer.png
ORGANIZER;CN="Citrus County Historical Society":MAILTO:csociety@tampabay.rr.com
END:VEVENT
BEGIN:VEVENT
DTSTART;TZID=America/New_York:20251115T100000
DTEND;TZID=America/New_York:20251116T160000
DTSTAMP:20260424T210933
CREATED:20250923T161257Z
LAST-MODIFIED:20250923T161257Z
UID:17353-1763200800-1763308800@cccourthouse.org
SUMMARY:Free Kids' Craft Corner at Inverness Festival of the Arts
DESCRIPTION:Join us for a Free Kids’ Craft Corner during Inverness Festival of the Arts. We’ll be making owl ornaments out of paper plates on Saturday\, November 15th and Sunday\, November 16th between 10 am and 4 pm while supplies last. Just drop into The Old Courthouse Heritage Museum and our staff will help get you started! No need to preregister for this event. Parental supervision is required for the duration of the activity.\nFor additional information\, please call the museum office between Tuesday and Saturday at (352) 341-6428.
URL:https://cccourthouse.org/event/free-kids-craft-corner-at-inverness-festival-of-the-arts/
LOCATION:Old Courthouse Heritage Museum\, 1 Courthouse Square\, Inverness\, FL\, 34450\, United States
ATTACH;FMTTYPE=image/png:https://cccourthouse.org/wp-content/uploads/2025/09/2025-Kids-crafts-art-festival-flyer-1.png
END:VEVENT
BEGIN:VEVENT
DTSTART;TZID=America/New_York:20251118T103000
DTEND;TZID=America/New_York:20251118T123000
DTSTAMP:20260424T210933
CREATED:20250910T145800Z
LAST-MODIFIED:20250910T145800Z
UID:17305-1763461800-1763469000@cccourthouse.org
SUMMARY:Simple Embroidery: An Adult Craft Class
DESCRIPTION:The Old Courthouse Heritage Museum presents a Simple Embroidery class for adults on Tuesday\, November 18th at 10:30 am. The class will be taught by volunteers Mary and Tina from Citrus Friendship Quilters Guild. The craft is a holiday themed embroidery even beginners can do that reads “Merry Christmas\,” which is similar but not exactly the same as the one in this image.  A $5.00 fee will be collected at the door. Spaces are limited and class will likely fill up in advance so please be sure to preregister. To sign up\, call the museum office at (352) 341-6428.\n\nStreetside parking in Downtown Inverness is limited to 2 hours and they do ticket. We recommend parking in the parking lot to the East of the Old Courthouse across the street which is free all day.
URL:https://cccourthouse.org/event/simple-embroidery-an-adult-craft-class/
LOCATION:Old Courthouse Heritage Museum\, 1 Courthouse Square\, Inverness\, FL\, 34450\, United States
ATTACH;FMTTYPE=image/png:https://cccourthouse.org/wp-content/uploads/2025/09/Nov-18th-embroidery-class-flyer-1.png
END:VEVENT
BEGIN:VEVENT
DTSTART;TZID=America/New_York:20251129T173000
DTEND;TZID=America/New_York:20251129T213000
DTSTAMP:20260424T210933
CREATED:20251022T183405Z
LAST-MODIFIED:20251022T183405Z
UID:17411-1764437400-1764451800@cccourthouse.org
SUMMARY:Olde Fashioned Christmas and Iconic Tree Lighting
DESCRIPTION:We’re joining the fun with Downtown Inverness Rotary 𝐟𝐨𝐫 the 𝟐𝟎𝟐𝟓 𝐂𝐡𝐫𝐢𝐬𝐭𝐦𝐚𝐬 𝐂𝐨𝐮𝐧𝐭𝐲 𝐎𝐥𝐝𝐞 𝐅𝐚𝐬𝐡𝐢𝐨𝐧𝐞𝐝 𝐂𝐡𝐫𝐢𝐬𝐭𝐦𝐚𝐬 𝐚𝐧𝐝 𝐈𝐜𝐨𝐧𝐢𝐜 𝐓𝐫𝐞𝐞 𝐋𝐢𝐠𝐡𝐭𝐢𝐧𝐠!!\nCitrus County Historical Society and The Old Courthouse Heritage Museum will present Hernando Harmonizers- an acapella singing group- once again!\n\nSaturday\, November 29th Downtown Inverness 5:30PM – 9:30PM\nFree event! We will have local music\, carolers\, Santa and activities for the kids\, and more!\nThe Rotary Club will 𝒂𝒍𝒔𝒐 𝒉𝒂𝒗𝒆 𝒂 𝒔𝒑𝒆𝒄𝒊𝒂𝒍 𝑽𝑰𝑷 𝒆𝒗𝒆𝒏𝒕 𝒇𝒆𝒂𝒕𝒖𝒓𝒊𝒏𝒈 𝒉𝒐𝒓𝒔 𝒅’𝒐𝒆𝒖𝒗𝒓𝒆𝒔\, 𝒄𝒐𝒄𝒌𝒕𝒂𝒊𝒍𝒔\, 𝒂𝒏𝒅 𝒕𝒉𝒆 𝒔𝒊𝒍𝒆𝒏𝒕 𝒂𝒖𝒄𝒕𝒊𝒐𝒏 & 𝒍𝒊𝒗𝒆 𝒂𝒖𝒄𝒕𝒊𝒐𝒏! 𝑻𝒊𝒄𝒌𝒆𝒕 𝒑𝒖𝒓𝒄𝒉𝒂𝒔𝒆𝒔 𝒂𝒓𝒆 𝒂𝒗𝒂𝒊𝒍𝒂𝒃𝒍𝒆!\nFor more information\, check out the event on Facebook event page at the link below:
URL:https://cccourthouse.org/event/olde-fashioned-christmas-and-iconic-tree-lighting/
LOCATION:Old Courthouse Heritage Museum\, 1 Courthouse Square\, Inverness\, FL\, 34450\, United States
ATTACH;FMTTYPE=application/pdf:https://cccourthouse.org/wp-content/uploads/2025/10/2025-Christmas-County-Flyer-5.pdf
END:VEVENT
END:VCALENDAR