BEGIN:VCALENDAR
VERSION:2.0
PRODID:-//Old Courthouse Heritage Museum - ECPv6.15.20//NONSGML v1.0//EN
CALSCALE:GREGORIAN
METHOD:PUBLISH
X-WR-CALNAME:Old Courthouse Heritage Museum
X-ORIGINAL-URL:https://cccourthouse.org
X-WR-CALDESC:Events for Old Courthouse Heritage Museum
REFRESH-INTERVAL;VALUE=DURATION:PT1H
X-Robots-Tag:noindex
X-PUBLISHED-TTL:PT1H
BEGIN:VTIMEZONE
TZID:America/New_York
BEGIN:DAYLIGHT
TZOFFSETFROM:-0500
TZOFFSETTO:-0400
TZNAME:EDT
DTSTART:20240310T070000
END:DAYLIGHT
BEGIN:STANDARD
TZOFFSETFROM:-0400
TZOFFSETTO:-0500
TZNAME:EST
DTSTART:20241103T060000
END:STANDARD
BEGIN:DAYLIGHT
TZOFFSETFROM:-0500
TZOFFSETTO:-0400
TZNAME:EDT
DTSTART:20250309T070000
END:DAYLIGHT
BEGIN:STANDARD
TZOFFSETFROM:-0400
TZOFFSETTO:-0500
TZNAME:EST
DTSTART:20251102T060000
END:STANDARD
BEGIN:DAYLIGHT
TZOFFSETFROM:-0500
TZOFFSETTO:-0400
TZNAME:EDT
DTSTART:20260308T070000
END:DAYLIGHT
BEGIN:STANDARD
TZOFFSETFROM:-0400
TZOFFSETTO:-0500
TZNAME:EST
DTSTART:20261101T060000
END:STANDARD
END:VTIMEZONE
BEGIN:VEVENT
DTSTART;TZID=America/New_York:20250906T100000
DTEND;TZID=America/New_York:20250906T110000
DTSTAMP:20260425T003156
CREATED:20250709T143332Z
LAST-MODIFIED:20250709T143332Z
UID:17067-1757152800-1757156400@cccourthouse.org
SUMMARY:Turtle Trek: A Free Kids' Nature Walk at Cooter Pond
DESCRIPTION:On Saturday\, September 6th\, The Old Courthouse Heritage Museum presents Turtle Trek: A Free Kids’ Nature Walk at Cooter Pond. This program is recommended for kids of all ages. This is a guided nature walk to see birds and alligators with some talking about the species\, what they eat\, and where they live around the high boardwalk over the pond.\nWe meet at 10:00 am just inside The Old Courthouse Heritage Museum. Spaces are limited\, so please preregister by calling the museum office at (352) 341-6428. We recommend you bring water and sunscreen.
URL:https://cccourthouse.org/event/turtle-trek-a-free-kids-nature-walk-at-cooter-pond-4/
LOCATION:Old Courthouse Heritage Museum\, 1 Courthouse Square\, Inverness\, FL\, 34450\, United States
ATTACH;FMTTYPE=image/png:https://cccourthouse.org/wp-content/uploads/2025/07/September-6th-2025-Turtle-Trek.png
END:VEVENT
BEGIN:VEVENT
DTSTART;TZID=America/New_York:20250914T090000
DTEND;TZID=America/New_York:20250914T100000
DTSTAMP:20260425T003156
CREATED:20250709T151316Z
LAST-MODIFIED:20250709T151316Z
UID:17070-1757840400-1757844000@cccourthouse.org
SUMMARY:Inverness Walks: Historic Downtown Walking Tour
DESCRIPTION:Join staff from The Old Courthouse Heritage Museum and Citrus County Historical Society for our monthly Historic Downtown Walking Tour. Together\, we’ll explore the downtown area and you’ll learn the history of the who\, how\, and why of the buildings around the Downtown Square. At 9 am every second Saturday of the month. Tour lasts for about an hour. $5 suggested donation for adults and $2 for children. Spaces are limited. Please RSVP by calling our office between Tuesday and Saturday at (352) 341-6428.
URL:https://cccourthouse.org/event/inverness-walks-historic-downtown-walking-tour-28/
LOCATION:Old Courthouse Heritage Museum\, 1 Courthouse Square\, Inverness\, FL\, 34450\, United States
ATTACH;FMTTYPE=image/png:https://cccourthouse.org/wp-content/uploads/2025/07/Inverness-Walks-Flyer.png
END:VEVENT
BEGIN:VEVENT
DTSTART;TZID=America/New_York:20250916T103000
DTEND;TZID=America/New_York:20250916T120000
DTSTAMP:20260425T003156
CREATED:20250709T151911Z
LAST-MODIFIED:20250709T151911Z
UID:17072-1758018600-1758024000@cccourthouse.org
SUMMARY:Nature Journaling Craft Class for Adults
DESCRIPTION:On Tuesday\, September 16th\, at 10:30 am\, join Citrus County Parks and Recreation and The Old Courthouse Heritage Museum for Nature Journaling\, a craft class for adults. There is a $5.00 fee that will be collected at the door to cover supplies. Spaces are limited. Please preregister by calling the museum at (352) 341-6428.\nStreetside parking is limited to 2 hours and they do ticket. We recommend you park in the lot just East of the museum across the street.
URL:https://cccourthouse.org/event/nature-journaling-craft-class-for-adults/
LOCATION:Old Courthouse Heritage Museum\, 1 Courthouse Square\, Inverness\, FL\, 34450\, United States
ATTACH;FMTTYPE=image/png:https://cccourthouse.org/wp-content/uploads/2025/07/Sept-16th-nature-journaling-flyer.png
END:VEVENT
BEGIN:VEVENT
DTSTART;TZID=America/New_York:20250918T190000
DTEND;TZID=America/New_York:20250918T210000
DTSTAMP:20260425T003156
CREATED:20250612T172552Z
LAST-MODIFIED:20250612T172552Z
UID:17049-1758222000-1758229200@cccourthouse.org
SUMMARY:Music at the Museum: Matt Stone as Elvis
DESCRIPTION:The Old Courthouse Heritage Museum and Citrus County Historical Society present: Matt Stone as Elvis! In the historic courtroom where Elvis filmed “Follow That Dream!”The concert will be hosted on Thursday\, September 18th. Doors open at 6 pm. Show begins at 7 pm. Light snacks and beverages. We offer $5 off up to 4 tickets for historical society members.\nMatt Stone was named by Graceland as one of the top Elvis performers on the planet and will be performing “Only the Best”- the number 1 hits! For tickets\, visit CCcourthouse.org/events or call the museum office at (352) 341-6428.
URL:https://cccourthouse.org/event/music-at-the-museum-matt-stone-as-elvis-3/
LOCATION:Old Courthouse Heritage Museum\, 1 Courthouse Square\, Inverness\, FL\, 34450\, United States
ATTACH;FMTTYPE=image/png:https://cccourthouse.org/wp-content/uploads/2025/06/Elvis-2025-flyer-1.png
END:VEVENT
BEGIN:VEVENT
DTSTART;TZID=America/New_York:20250920T130000
DTEND;TZID=America/New_York:20250920T150000
DTSTAMP:20260425T003156
CREATED:20250709T152244Z
LAST-MODIFIED:20250919T125116Z
UID:17075-1758373200-1758380400@cccourthouse.org
SUMMARY:CANCELLED: Elvis Dance Party: A Free Kids' Event
DESCRIPTION:Update: Unfortunately\, we’ve had to cancel this event due to a very low number of RSVP’s. \nJoin staff at The Old Courthouse Heritage Museum as we host a free Elvis Dance Party for kids ages 5 and up on Saturday\, September 20th at 1 pm. The party will include\, dancing\, singing\, games\, instruments\, and (a little bit) of Elvis history! \nSpaces are limited so preregistration is required. Call (352) 341-6428 in advance to sign up. Parents must supervise your children for the duration of the event.\nWe typically host our free children’s programs on the 1st and 3rd Saturdays of each month which are the same day the City of Inverness hosts the outdoor market down the street at the Depot next to the playground at Liberty Park. Make your Saturday a fun\, family day out in Downtown Inverness!
URL:https://cccourthouse.org/event/elvis-dance-party-a-free-kids-event/
LOCATION:Old Courthouse Heritage Museum\, 1 Courthouse Square\, Inverness\, FL\, 34450\, United States
ATTACH;FMTTYPE=image/png:https://cccourthouse.org/wp-content/uploads/2025/07/Sep-20th-Elvis-Dance-Party-flyer.png
END:VEVENT
BEGIN:VEVENT
DTSTART;TZID=America/New_York:20250927T153000
DTEND;TZID=America/New_York:20250927T170000
DTSTAMP:20260425T003156
CREATED:20250712T132559Z
LAST-MODIFIED:20250712T132559Z
UID:17095-1758987000-1758992400@cccourthouse.org
SUMMARY:Free Coffee and Conversation: Cross Florida Greenway Adventure
DESCRIPTION:On Saturday\, September 27th\, at 3:30 pm we’ll co-host the finale presentation of Save Our Waters Week here at the Old Courthouse Heritage Museum with Keep Citrus County Beautiful. The lecture is a fascinating one from authors Tom Craig and Max Schulman about their hikes and more for their book\, “Cross Florida Greenway Trail Adventure.”\nLight refreshments. Limited spaces. RSVPs requested. To join in\, please call (352) 341-6428.\n\nMore info:Imagine a wilderness reclaimed from history—110 miles of untamed trails carved from an abandoned barge canal\, now a paradise for adventurers. Welcome to the Marjorie Harris Carr Cross Florida Greenway\, where mountain bikers conquer rugged terrain\, paddlers glide through forgotten waterways\, and hikers trek scenic landscapes shaped by time.Our book\, The Cross Florida Greenway Trail Adventure\, is your guide to this extraordinary journey. Whether you’re mountain biking the legendary Vortex Red Trail\, kayaking the wild Ocklawaha River\, or setting out on a multi-day expedition across Florida’s most diverse park\, we map out thrilling experiences\, historical landmarks\, and the best places to eat\, camp\, and explore. More than just a trail guide\, this book dives into the rich history behind the Greenway—how a failed canal project became a triumph of conservation\, thanks to visionaries like Marjorie Harris Carr. It’s the story of a landscape transformed\, and the adventure it now offers to those ready to embrace Florida’s wild side. Are you ready for the ride?
URL:https://cccourthouse.org/event/free-coffee-and-conversation-cross-florida-greenway-adventure/
LOCATION:Old Courthouse Heritage Museum\, 1 Courthouse Square\, Inverness\, FL\, 34450\, United States
ATTACH;FMTTYPE=image/png:https://cccourthouse.org/wp-content/uploads/2025/07/2025-Save-Our-Waters-Flyer.png
END:VEVENT
END:VCALENDAR