BEGIN:VCALENDAR
VERSION:2.0
PRODID:-//Old Courthouse Heritage Museum - ECPv6.15.20//NONSGML v1.0//EN
CALSCALE:GREGORIAN
METHOD:PUBLISH
X-ORIGINAL-URL:https://cccourthouse.org
X-WR-CALDESC:Events for Old Courthouse Heritage Museum
REFRESH-INTERVAL;VALUE=DURATION:PT1H
X-Robots-Tag:noindex
X-PUBLISHED-TTL:PT1H
BEGIN:VTIMEZONE
TZID:America/New_York
BEGIN:DAYLIGHT
TZOFFSETFROM:-0500
TZOFFSETTO:-0400
TZNAME:EDT
DTSTART:20240310T070000
END:DAYLIGHT
BEGIN:STANDARD
TZOFFSETFROM:-0400
TZOFFSETTO:-0500
TZNAME:EST
DTSTART:20241103T060000
END:STANDARD
BEGIN:DAYLIGHT
TZOFFSETFROM:-0500
TZOFFSETTO:-0400
TZNAME:EDT
DTSTART:20250309T070000
END:DAYLIGHT
BEGIN:STANDARD
TZOFFSETFROM:-0400
TZOFFSETTO:-0500
TZNAME:EST
DTSTART:20251102T060000
END:STANDARD
BEGIN:DAYLIGHT
TZOFFSETFROM:-0500
TZOFFSETTO:-0400
TZNAME:EDT
DTSTART:20260308T070000
END:DAYLIGHT
BEGIN:STANDARD
TZOFFSETFROM:-0400
TZOFFSETTO:-0500
TZNAME:EST
DTSTART:20261101T060000
END:STANDARD
END:VTIMEZONE
BEGIN:VEVENT
DTSTART;TZID=America/New_York:20250405T130000
DTEND;TZID=America/New_York:20250405T150000
DTSTAMP:20260425T102724
CREATED:20250225T192334Z
LAST-MODIFIED:20250225T192334Z
UID:16822-1743858000-1743865200@cccourthouse.org
SUMMARY:Free Kids' Crafternoon: Design Your Own Movie Poster
DESCRIPTION:Have you ever thought about making your own movie? Here’s your chance to design a poster all about the story you want to tell! For ages 5 and up. Space and supplies are limited so be sure to\npreregister at (352) 341-6428. Hosted at The Old Courthouse Heritage Museum at 1 Courthouse Square Inverness\, FL \nStop in early to get inspiration from our temporary exhibit of “Beaches\, Creatures and Cowboys: Florida movie posters” on loan from Museum of Florida History’s Traveling Exhibits (TREX) program.
URL:https://cccourthouse.org/event/free-kids-crafternoon-design-your-own-movie-poster/
LOCATION:Old Courthouse Heritage Museum\, 1 Courthouse Square\, Inverness\, FL\, 34450\, United States
ATTACH;FMTTYPE=image/png:https://cccourthouse.org/wp-content/uploads/2025/02/April-2025-Movie-Poster-Design.png
END:VEVENT
BEGIN:VEVENT
DTSTART;TZID=America/New_York:20250410T190000
DTEND;TZID=America/New_York:20250410T203000
DTSTAMP:20260425T102724
CREATED:20250307T201716Z
LAST-MODIFIED:20250307T201716Z
UID:16851-1744311600-1744317000@cccourthouse.org
SUMMARY:Free Coffee and Conversation: Motion Picture Paradise
DESCRIPTION:Free Coffee and Conversation with Dr. David Morton\, author of Motion Picture Paradise. Free coffee and light refreshments during this lecture open to the community. Please RSVP in advance by calling the museum office between Tuesday and Saturday at (352) 341-6428.\n\nMotion Picture Paradise is a sweeping story of filmmaking in Florida\, featuring studios and filmmakers across the peninsula by looking at the many iconic films and television shows shot in the state. In the early years of the American film industry\, Florida was a favorite location for pioneer movie makers\, and David Morton chronicles the state’s importance to producers through the next 125years.\n\nAbout the speaker:\nDavid Morton received his Ph.D. in Texts and Technology from the University of Central Florida in 2019\, where he also is an instructor in both History and Media Studies. He was a recipient of the 2016-17 Fulbright scholarship and serves as program director for the Flickering Landscapes Conference Series. His book\, A Motion Picture Paradise!: A History of Florida’s Film and Television Industry was published by the University Press of Florida in July 2024.\n\nThis Florida Talks program is a partnership between Florida Humanities and The Old Courthouse Heritage Museum. Funding for this program was provided by Florida Humanities and sponsored in part by the State of Florida\, Department of State\, Division of Arts and Culture and the National Endowment for the Arts.
URL:https://cccourthouse.org/event/free-coffee-and-conversation-motion-picture-paradise/
LOCATION:Old Courthouse Heritage Museum\, 1 Courthouse Square\, Inverness\, FL\, 34450\, United States
ATTACH;FMTTYPE=image/png:https://cccourthouse.org/wp-content/uploads/2025/03/Motion-Picture-Paradise-flyer-2025.png
END:VEVENT
BEGIN:VEVENT
DTSTART;TZID=America/New_York:20250412T090000
DTEND;TZID=America/New_York:20250412T100000
DTSTAMP:20260425T102724
CREATED:20250307T201502Z
LAST-MODIFIED:20250307T201502Z
UID:16849-1744448400-1744452000@cccourthouse.org
SUMMARY:Inverness Walks: Historic Downtown Walking Tour
DESCRIPTION:Join staff from The Old Courthouse Heritage Museum and Citrus County Historical Society for our monthly Historic Downtown Walking Tour. Together\, we’ll explore the downtown area and you’ll learn the history of the who\, how\, and why of the buildings around the Downtown Square. At 9 am every second Saturday of the month. Tour lasts for about an hour. $5 suggested donation for adults and $2 for children. Spaces are limited. Please RSVP by calling our office between Tuesday and Saturday at (352) 341-6428.
URL:https://cccourthouse.org/event/inverness-walks-historic-downtown-walking-tour-24/
LOCATION:Old Courthouse Heritage Museum\, 1 Courthouse Square\, Inverness\, FL\, 34450\, United States
ATTACH;FMTTYPE=image/png:https://cccourthouse.org/wp-content/uploads/2024/12/Inverness-Walks-Flyer.png
END:VEVENT
BEGIN:VEVENT
DTSTART;TZID=America/New_York:20250415T103000
DTEND;TZID=America/New_York:20250415T123000
DTSTAMP:20260425T102724
CREATED:20250226T193820Z
LAST-MODIFIED:20250226T193820Z
UID:16825-1744713000-1744720200@cccourthouse.org
SUMMARY:Flower Pounding- A Crafting Class for Adults
DESCRIPTION:Join museum volunteer Cyndy Hamilton here at The Old Courthouse for a craft class geared toward adults on Flower Pounding. Press flowers onto cosmetic bags to create natural looking designs. $5 will be collected at the door to cover supplies. Spaces are limited so be sure to preregister by calling (352) 341-6428.
URL:https://cccourthouse.org/event/flower-pounding-a-crafting-class-for-adults/
LOCATION:Old Courthouse Heritage Museum\, 1 Courthouse Square\, Inverness\, FL\, 34450\, United States
ATTACH;FMTTYPE=image/png:https://cccourthouse.org/wp-content/uploads/2025/02/April-2025-Flower-pounding-class-2-flyer.png
END:VEVENT
BEGIN:VEVENT
DTSTART;TZID=America/New_York:20250419T130000
DTEND;TZID=America/New_York:20250419T143000
DTSTAMP:20260425T102724
CREATED:20250226T220210Z
LAST-MODIFIED:20250226T220210Z
UID:16829-1745067600-1745073000@cccourthouse.org
SUMMARY:Free Kids' Crafternoon: Spring and Easter Creations
DESCRIPTION:The Old Courthouse Heritage Museum presents a Free Kids’ Crafternoon for Spring and Easter creations. Kids will learn how to make clothes pin chicks and paper bunnies.\nFor ages 3 and up. Limited spaces. Please call to preregister at (352) 341-6428. Parental supervision is required for the duration of the activity.
URL:https://cccourthouse.org/event/free-kids-crafternoon-spring-and-easter-creations/
LOCATION:Old Courthouse Heritage Museum\, 1 Courthouse Square\, Inverness\, FL\, 34450\, United States
ATTACH;FMTTYPE=image/png:https://cccourthouse.org/wp-content/uploads/2025/02/April-Easter-2025-Crafternoon-flyer.png
END:VEVENT
BEGIN:VEVENT
DTSTART;TZID=America/New_York:20250424T180000
DTEND;TZID=America/New_York:20250424T210000
DTSTAMP:20260425T102724
CREATED:20241228T133838Z
LAST-MODIFIED:20241228T133838Z
UID:16713-1745517600-1745528400@cccourthouse.org
SUMMARY:Music at the Museum: Johnny Wild and the Delights
DESCRIPTION:On Thursday\, April 24\, 2025\, Music at the Museum presents Johnny Wild and the Delights\, Florida’s Number One 50’s and 60’s band. They will take you back to the style and the sound of the Golden Age of music! Johnny Wild and the Delights have the energy\, charisma\, and fun to put together a great sound that does not stop until the 2-hour performance is completed.\n\n$25 tickets include food and soft drinks served between 6 pm and 7 pm as well as museum access after-hours. The show will begin at 7 pm. $5 discounts are available for members of Citrus County Historical Society on up to 4 tickets per show. The show will be held in the historic courtroom inside The Old Courthouse Heritage Museum at 1 Courthouse Square Inverness\, FL 34450.\nSeason tickets are available to everyone before or on January 16th at the latest and include priority seating for purchasing all 4 Winter and Spring 2025 shows at once. For tickets or more information\, call the museum office between Tuesday and Saturday at (352) 341-6428 or purchase them online at www.CCcourthouse.org/shop\n\nIf you purchase tickets online\, please select “pick up” as no paper tickets are mailed or distributed. Instead\, your name and number in your party will be added to a reservation list and you will be checked in at the door on the night of the show.
URL:https://cccourthouse.org/event/music-at-the-museum-johnny-wild-and-the-delights/
LOCATION:Old Courthouse Heritage Museum\, 1 Courthouse Square\, Inverness\, FL\, 34450\, United States
ATTACH;FMTTYPE=image/png:https://cccourthouse.org/wp-content/uploads/2024/12/Johnny-Wild-2025-flyer-2.png
ORGANIZER;CN="Citrus County Historical Society":MAILTO:csociety@tampabay.rr.com
END:VEVENT
BEGIN:VEVENT
DTSTART;TZID=America/New_York:20250426T180000
DTEND;TZID=America/New_York:20250426T210000
DTSTAMP:20260425T102724
CREATED:20250308T202324Z
LAST-MODIFIED:20250308T202523Z
UID:16854-1745690400-1745701200@cccourthouse.org
SUMMARY:Jazzin' it Up Benefit with Cool Corporate Cats for Crystal Memorial Gardens Cemetery
DESCRIPTION:The Citrus County Historical Society is proud to support Friends of Crystal Memorial Gardens Cemetery with a benefit concert featuring Cool Corporate Cats on Saturday\, April 26th at George Washinton Carver Community Center in Crystal River. Cool Corporate Cats are a 30-year Florida based band playing some of the best blues and jazz you’ll ever hear with Florida Jazz Hall of Famer and saxophonist Joe Donato\, and Sir Dell O. Barnes\, Sr.- soulful tenor saxophonist! \nAll proceeds from the show and silent auction go toward efforts to procure and build a historic marker at the cemetery. Get your tickets online now at the link below. Tickets purchased online prior to the event are $30. Tickets purchased at the door are $40. Tickets include heavy appetizers and the musical performance. For more information\, please call the Old Courthouse Heritage Museum’s office between Tuesday and Saturday at (352) 341-6428
URL:https://cccourthouse.org/event/jazzin-it-up-benefit-with-cool-corporate-cats-for-crystal-memorial-gardens-cemetery/
LOCATION:George Washington Carver Community Center\, 95 Three Sisters Springs Trail\, Crystal River\, FL\, 34428\, United States
ATTACH;FMTTYPE=image/png:https://cccourthouse.org/wp-content/uploads/2025/03/JazzItUp_flyer.png
END:VEVENT
END:VCALENDAR