BEGIN:VCALENDAR
VERSION:2.0
PRODID:-//Old Courthouse Heritage Museum - ECPv6.15.20//NONSGML v1.0//EN
CALSCALE:GREGORIAN
METHOD:PUBLISH
X-ORIGINAL-URL:https://cccourthouse.org
X-WR-CALDESC:Events for Old Courthouse Heritage Museum
REFRESH-INTERVAL;VALUE=DURATION:PT1H
X-Robots-Tag:noindex
X-PUBLISHED-TTL:PT1H
BEGIN:VTIMEZONE
TZID:America/New_York
BEGIN:DAYLIGHT
TZOFFSETFROM:-0500
TZOFFSETTO:-0400
TZNAME:EDT
DTSTART:20240310T070000
END:DAYLIGHT
BEGIN:STANDARD
TZOFFSETFROM:-0400
TZOFFSETTO:-0500
TZNAME:EST
DTSTART:20241103T060000
END:STANDARD
BEGIN:DAYLIGHT
TZOFFSETFROM:-0500
TZOFFSETTO:-0400
TZNAME:EDT
DTSTART:20250309T070000
END:DAYLIGHT
BEGIN:STANDARD
TZOFFSETFROM:-0400
TZOFFSETTO:-0500
TZNAME:EST
DTSTART:20251102T060000
END:STANDARD
BEGIN:DAYLIGHT
TZOFFSETFROM:-0500
TZOFFSETTO:-0400
TZNAME:EDT
DTSTART:20260308T070000
END:DAYLIGHT
BEGIN:STANDARD
TZOFFSETFROM:-0400
TZOFFSETTO:-0500
TZNAME:EST
DTSTART:20261101T060000
END:STANDARD
END:VTIMEZONE
BEGIN:VEVENT
DTSTART;TZID=America/New_York:20250301T100000
DTEND;TZID=America/New_York:20250301T113000
DTSTAMP:20260425T115705
CREATED:20250102T214131Z
LAST-MODIFIED:20250102T214131Z
UID:16726-1740823200-1740828600@cccourthouse.org
SUMMARY:Turtle Trek: A Free Kids' Nature Walk at Cooter Pond
DESCRIPTION:Bring the kids and join our staff from The Old Courthouse Heritage Museum for Turtle Trek- a nature walk around the board walk at Cooter Pond. We’ll meet inside the museum at 10 am. We’re sure to see some birds and alligators. We’ll talk about some of the plants and animals and historic use of the land\, plant and wildlife\, too! This is a free event for kids and families. Spots are limited\, so please preregister by calling our museum office between Tuesday and Saturday at (352) 341-6428. Parental supervision is required for the duration of the event.
URL:https://cccourthouse.org/event/turtle-trek-a-free-kids-nature-walk-at-cooter-pond-3/
LOCATION:Old Courthouse Heritage Museum\, 1 Courthouse Square\, Inverness\, FL\, 34450\, United States
ATTACH;FMTTYPE=image/png:https://cccourthouse.org/wp-content/uploads/2025/01/March-1-2025-Turtle-Trek.png
END:VEVENT
BEGIN:VEVENT
DTSTART;TZID=America/New_York:20250306T190000
DTEND;TZID=America/New_York:20250306T203000
DTSTAMP:20260425T115705
CREATED:20250102T215757Z
LAST-MODIFIED:20250102T215757Z
UID:16734-1741287600-1741293000@cccourthouse.org
SUMMARY:Free Coffee and Conversation: Florida Women\, Advice\, and Social Change
DESCRIPTION:Join us at The Old Courthouse Heritage Museum for a Free Coffee and Conversation with Dr. Kimberly Voss\, speaking on “Florida Women\, Advice\, and Social Change.”\nComplimentary refreshments will be served. Please RSVP in advance by calling the museum office between Tuesday and Saturday at (352) 341-6428.\n\nNewspaper advice columns started as lovelorn columns during Yellow Journalism as a way of showing that newspapers had a “heart.” These columns typically ran in the women’s section of metropolitan newspapers\, many in Florida\, and included a mixture of content\, from traditional to progressive. Learn how these columns affected Floridian women’s lives and relationships in the 1950s and 1960s in this presentation.\nKimberly Voss\, PhD\, is a professor of journalism at the University of Central Florida. Her research focuses on historical analysis of women journalists’ careers\, women’s political influence\, and the definition of women’s news in the post-World War II years; many of them from Florida. She has published five books\, including Re-Evaluating Women’s Page Journalism in the Post-World War II Era and Women Politicking Politely. She has published over fifty journal articles about women journalists.\n\nThis Florida Talks program is a partnership between Florida Humani-ties and The Old Courthouse Heritage Museum. Funding for this program was provided by Florida Humanities and sponsored in part by the State of Florida\, Department of State\, Division of Arts and Culture\, the Florida Council on Arts and Culture\, and the National Endowment for the Arts.
URL:https://cccourthouse.org/event/free-coffee-and-conversation-florida-women-advice-and-social-change/
LOCATION:Old Courthouse Heritage Museum\, 1 Courthouse Square\, Inverness\, FL\, 34450\, United States
ATTACH;FMTTYPE=image/png:https://cccourthouse.org/wp-content/uploads/2025/01/Florida-Women-March-6th-flyer.png
END:VEVENT
BEGIN:VEVENT
DTSTART;TZID=America/New_York:20250308T090000
DTEND;TZID=America/New_York:20250308T100000
DTSTAMP:20260425T115705
CREATED:20250102T214636Z
LAST-MODIFIED:20250102T214636Z
UID:16732-1741424400-1741428000@cccourthouse.org
SUMMARY:Inverness Walks: Historic Downtown Walking Tour
DESCRIPTION:Join staff from The Old Courthouse Heritage Museum and Citrus County Historical Society for our monthly Historic Downtown Walking Tour. Together\, we’ll explore the downtown area and you’ll learn the history of the who\, how\, and why of the buildings around the Downtown Square. At 9 am every second Saturday of the month. Tour lasts for about an hour. $5 suggested donation for adults and $2 for children. Spaces are limited. Please RSVP by calling our office between Tuesday and Saturday at (352) 341-6428.
URL:https://cccourthouse.org/event/inverness-walks-historic-downtown-walking-tour-23/
LOCATION:Old Courthouse Heritage Museum\, 1 Courthouse Square\, Inverness\, FL\, 34450\, United States
ATTACH;FMTTYPE=image/png:https://cccourthouse.org/wp-content/uploads/2024/12/Inverness-Walks-Flyer.png
ORGANIZER;CN="Citrus County Historical Society":MAILTO:csociety@tampabay.rr.com
END:VEVENT
BEGIN:VEVENT
DTSTART;TZID=America/New_York:20250315T130000
DTEND;TZID=America/New_York:20250315T143000
DTSTAMP:20260425T115705
CREATED:20250102T214429Z
LAST-MODIFIED:20250102T214429Z
UID:16729-1742043600-1742049000@cccourthouse.org
SUMMARY:Free Kids' Crafternoon: Coffee Filter Critters
DESCRIPTION:Join staff from The Old Courthouse Heritage Museum for a free Kids’ Crafternoon where we will make animal critters out of coffee filters. For kids ages 3 and up. Spaces and supplies are limited so preregistration is required. To sign up\, please call the museum office between Tuesday and Saturday at (352) 341-6428. Parental supervision is required for the duration of the event.
URL:https://cccourthouse.org/event/free-kids-crafternoon-coffee-filter-critters/
LOCATION:Old Courthouse Heritage Museum\, 1 Courthouse Square\, Inverness\, FL\, 34450\, United States
ATTACH;FMTTYPE=image/png:https://cccourthouse.org/wp-content/uploads/2025/01/Coffee-filter-crafts-March-15th-flyer.png
END:VEVENT
BEGIN:VEVENT
DTSTART;TZID=America/New_York:20250320T180000
DTEND;TZID=America/New_York:20250320T210000
DTSTAMP:20260425T115705
CREATED:20241228T133330Z
LAST-MODIFIED:20241228T133330Z
UID:16710-1742493600-1742504400@cccourthouse.org
SUMMARY:Music at the Museum: Cool Corporate Cats
DESCRIPTION:On Thursday\, March 20\, 2025\, Music at the Museum welcomes back Cool Corporate Cats. The group is a 30-year Florida based band playing some of the best blues and jazz you’ll ever hear with Florida Jazz Hall of Famer and saxophonist Joe Donato\, and Sir Dell O. Barnes\, Sr.- soulful tenor saxophonist!\n\n$25 tickets include food and soft drinks served between 6 pm and 7 pm as well as museum access after-hours. The show will begin at 7 pm. $5 discounts are available for members of Citrus County Historical Society on up to 4 tickets per show. The show will be held in the historic courtroom inside The Old Courthouse Heritage Museum at 1 Courthouse Square Inverness\, FL 34450.\nSeason tickets are available to everyone before or on January 16th at the latest and include priority seating for purchasing all 4 Winter and Spring 2025 shows at once. For tickets or more information\, call the museum office between Tuesday and Saturday at (352) 341-6428 or purchase them online at www.CCcourthouse.org/shop\n\nIf you purchase tickets online\, please select “pick up” as no paper tickets are mailed or distributed. Instead\, your name and number in your party will be added to a reservation list and you will be checked in at the door on the night of the show.
URL:https://cccourthouse.org/event/music-at-the-museum-cool-corporate-cats-3/
LOCATION:Old Courthouse Heritage Museum\, 1 Courthouse Square\, Inverness\, FL\, 34450\, United States
ATTACH;FMTTYPE=image/png:https://cccourthouse.org/wp-content/uploads/2024/12/Cool-Cats-2025-flyer.png
ORGANIZER;CN="Citrus County Historical Society":MAILTO:csociety@tampabay.rr.com
END:VEVENT
BEGIN:VEVENT
DTSTART;TZID=America/New_York:20250325T103000
DTEND;TZID=America/New_York:20250325T123000
DTSTAMP:20260425T115705
CREATED:20250103T132731Z
LAST-MODIFIED:20250103T132731Z
UID:16737-1742898600-1742905800@cccourthouse.org
SUMMARY:Art Class for Adults: Spring Painting
DESCRIPTION:Join staff at The Old Courthouse Heritage Museum to follow along step by step to create a beautiful cherry tree painting. There is a $5 fee at the door to help cover supplies. All supplies will be provided and spaces are limited. Please preregister by phone. Call the museum office between Tuesday and Saturday at (352) 341-6428.\n\nParking around the square on weekdays is limited to two hours and tickets are often issued. Because the class may last a little longer than that\, we recommend parking to the East of the Old Courthouse in one of the parking lots which are not in a ticketed zone.
URL:https://cccourthouse.org/event/art-class-for-adults-spring-painting/
LOCATION:Old Courthouse Heritage Museum\, 1 Courthouse Square\, Inverness\, FL\, 34450\, United States
ATTACH;FMTTYPE=image/png:https://cccourthouse.org/wp-content/uploads/2025/01/March-2025-adult-painting-class.png
END:VEVENT
END:VCALENDAR