BEGIN:VCALENDAR
VERSION:2.0
PRODID:-//Old Courthouse Heritage Museum - ECPv6.15.20//NONSGML v1.0//EN
CALSCALE:GREGORIAN
METHOD:PUBLISH
X-ORIGINAL-URL:https://cccourthouse.org
X-WR-CALDESC:Events for Old Courthouse Heritage Museum
REFRESH-INTERVAL;VALUE=DURATION:PT1H
X-Robots-Tag:noindex
X-PUBLISHED-TTL:PT1H
BEGIN:VTIMEZONE
TZID:America/New_York
BEGIN:DAYLIGHT
TZOFFSETFROM:-0500
TZOFFSETTO:-0400
TZNAME:EDT
DTSTART:20240310T070000
END:DAYLIGHT
BEGIN:STANDARD
TZOFFSETFROM:-0400
TZOFFSETTO:-0500
TZNAME:EST
DTSTART:20241103T060000
END:STANDARD
BEGIN:DAYLIGHT
TZOFFSETFROM:-0500
TZOFFSETTO:-0400
TZNAME:EDT
DTSTART:20250309T070000
END:DAYLIGHT
BEGIN:STANDARD
TZOFFSETFROM:-0400
TZOFFSETTO:-0500
TZNAME:EST
DTSTART:20251102T060000
END:STANDARD
BEGIN:DAYLIGHT
TZOFFSETFROM:-0500
TZOFFSETTO:-0400
TZNAME:EDT
DTSTART:20260308T070000
END:DAYLIGHT
BEGIN:STANDARD
TZOFFSETFROM:-0400
TZOFFSETTO:-0500
TZNAME:EST
DTSTART:20261101T060000
END:STANDARD
END:VTIMEZONE
BEGIN:VEVENT
DTSTART;TZID=America/New_York:20250104T130000
DTEND;TZID=America/New_York:20250104T150000
DTSTAMP:20260425T143406
CREATED:20241226T194036Z
LAST-MODIFIED:20241226T194036Z
UID:16668-1735995600-1736002800@cccourthouse.org
SUMMARY:Cool Winter Crafternoon for Kids
DESCRIPTION:Bring the kids to the Old Courthouse Heritage Museum for a Cool Winter Crafternoon- a free event for kids ages 3 and up to make winter snowmen crafts. Spaces and supplies are limited. Preregistration is required. To sign up\, please call (352) 341-6428.
URL:https://cccourthouse.org/event/cool-winter-crafternoon-for-kids/
LOCATION:Old Courthouse Heritage Museum\, 1 Courthouse Square\, Inverness\, FL\, 34450\, United States
ATTACH;FMTTYPE=image/png:https://cccourthouse.org/wp-content/uploads/2024/12/cool-winter-crafternoon-flyer.png
END:VEVENT
BEGIN:VEVENT
DTSTART;TZID=America/New_York:20250111T090000
DTEND;TZID=America/New_York:20250111T100000
DTSTAMP:20260425T143406
CREATED:20241226T194308Z
LAST-MODIFIED:20241226T194407Z
UID:16671-1736586000-1736589600@cccourthouse.org
SUMMARY:Inverness Walks: Historic Downtown Walking Tour
DESCRIPTION:Join staff from The Old Courthouse Heritage Museum and Citrus County Historical Society for our monthly Historic Downtown Walking Tour. Together\, we’ll explore the downtown area and you’ll learn the history of the who\, how\, and why of the buildings around the Downtown Square. At 9 am every second Saturday of the month. Tour lasts for about an hour. $5 suggested donation for adults and $2 for children. Spaces are limited. Please RSVP by calling our office between Tuesday and Saturday at (352) 341-6428.
URL:https://cccourthouse.org/event/inverness-walks-historic-downtown-walking-tour-21/
LOCATION:Old Courthouse Heritage Museum\, 1 Courthouse Square\, Inverness\, FL\, 34450\, United States
ATTACH;FMTTYPE=image/png:https://cccourthouse.org/wp-content/uploads/2024/12/Inverness-Walks-Flyer.png
END:VEVENT
BEGIN:VEVENT
DTSTART;TZID=America/New_York:20250116T180000
DTEND;TZID=America/New_York:20250116T210000
DTSTAMP:20260425T143406
CREATED:20241226T194759Z
LAST-MODIFIED:20241226T202352Z
UID:16674-1737050400-1737061200@cccourthouse.org
SUMMARY:Music at the Museum: Glorious Jazz\, Etcetera
DESCRIPTION:On Thursday\, January 16th\, we present Music at the Museum with Glorious Jazz Etc. The group is a local experienced Central Florida Band that performs some great Jazz\, Rhythm and Blues\, Motown and Oldies from the 50’s and beyond. These musicians and singers are all World class performers\, some of whom have performed with various groups that have been given entertainment awards for exceptional music\, writing and directing talent.\n\n$25 tickets include food and soft drinks served between 6 pm and 7 pm as well as museum access after-hours. The show will begin at 7 pm. $5 discounts are available for members of Citrus County Historical Society on up to 4 tickets per show. The show will be held in the historic courtroom inside The Old Courthouse Heritage Museum at 1 Courthouse Square Inverness\, FL 34450.\nSeason tickets are available to everyone before or on January 16th at the latest and include priority seating for purchasing all 4 Winter and Spring 2025 shows at once. For tickets or more information\, call the museum office between Tuesday and Saturday at (352) 341-6428 or visit our online shop at www.CCcourthouse.org/shop 
URL:https://cccourthouse.org/event/music-at-the-museum-glorious-jazz-etcetera/
LOCATION:Old Courthouse Heritage Museum\, 1 Courthouse Square\, Inverness\, FL\, 34450\, United States
ATTACH;FMTTYPE=image/png:https://cccourthouse.org/wp-content/uploads/2024/12/Glorious-Jazz-Etc-flyer.png
ORGANIZER;CN="Citrus County Historical Society":MAILTO:csociety@tampabay.rr.com
END:VEVENT
BEGIN:VEVENT
DTSTART;TZID=America/New_York:20250118T130000
DTEND;TZID=America/New_York:20250118T150000
DTSTAMP:20260425T143406
CREATED:20241226T195235Z
LAST-MODIFIED:20250118T134859Z
UID:16677-1737205200-1737212400@cccourthouse.org
SUMMARY:Cancelled: Free Kids' Corner Event: Games on Your Feet
DESCRIPTION:We apologize\, but due to a low number of registrations\, we’ve had to cancel this event.  \nBring the kids to the Old Courthouse Heritage Museum for “Games on Your Feet” -a series of active group games with prizes for winners. For ages 5 and up. Spaces are limited. Games will include classics like “Simon Says”\, “Red Light/ Green Light” and tons more including some we’ve come up with. Please call the museum office to preregister at (352) 341-6428. \n  \n 
URL:https://cccourthouse.org/event/free-kids-corner-event-games-on-your-feet/
LOCATION:Old Courthouse Heritage Museum\, 1 Courthouse Square\, Inverness\, FL\, 34450\, United States
ATTACH;FMTTYPE=image/png:https://cccourthouse.org/wp-content/uploads/2024/12/Jan-18th-Games-on-Your-Feet.png
END:VEVENT
BEGIN:VEVENT
DTSTART;TZID=America/New_York:20250125T140000
DTEND;TZID=America/New_York:20250125T160000
DTSTAMP:20260425T143406
CREATED:20241228T142828Z
LAST-MODIFIED:20250114T164319Z
UID:16718-1737813600-1737820800@cccourthouse.org
SUMMARY:Artists' reception with artOasis
DESCRIPTION:On Saturday\, January 25th from 2 to 4 pm\, the artists of artOasis welcome you to attend their artists’ reception as they introduce their newest exhibit at The Old Courthouse Heritage Museum entitled\, “Good Vibrations.” This display is all inspired by music and the meet-and-greet is a chance to chat with the artists and see their latest work. Performers will present live music and complimentary snacks and drinks will be served. Anyone can just show up\, but RSVPs are encouraged and appreciated. TO RSVP\, call the museum office between Tuesday and Saturday at (352) 341-6428.
URL:https://cccourthouse.org/event/artists-reception-with-artoasis-2/
LOCATION:Old Courthouse Heritage Museum\, 1 Courthouse Square\, Inverness\, FL\, 34450\, United States
ATTACH;FMTTYPE=image/png:https://cccourthouse.org/wp-content/uploads/2024/12/artOasis-exhibit-flyer-2025.png
ORGANIZER;CN="Citrus County Historical Society":MAILTO:csociety@tampabay.rr.com
END:VEVENT
BEGIN:VEVENT
DTSTART;TZID=America/New_York:20250128T103000
DTEND;TZID=America/New_York:20250128T123000
DTSTAMP:20260425T143406
CREATED:20241226T195637Z
LAST-MODIFIED:20241226T195637Z
UID:16680-1738060200-1738067400@cccourthouse.org
SUMMARY:Adult Crafting Class: Florida Decoupage
DESCRIPTION:Join us at The Old Courthouse Heritage Museum with volunteer Cyndy Hamilton as she presents a crafting class for adults to make Florida themed decoupage creations. Participants will use Florida themed napkins and glue to make keepsakes. A $5.00 fee will be collected per person which goes toward supplies. Supplies and space are limited\, and seats often fill up. Preregistration is required. RSVP in advance by calling the museum office between Tuesday and Saturday at (352) 341-6428.
URL:https://cccourthouse.org/event/adult-crafting-class-florida-decoupage/
LOCATION:Old Courthouse Heritage Museum\, 1 Courthouse Square\, Inverness\, FL\, 34450\, United States
ATTACH;FMTTYPE=image/png:https://cccourthouse.org/wp-content/uploads/2024/12/Jan-2025-Decoupage-class-flyer.png
END:VEVENT
END:VCALENDAR