BEGIN:VCALENDAR
VERSION:2.0
PRODID:-//Old Courthouse Heritage Museum - ECPv6.15.20//NONSGML v1.0//EN
CALSCALE:GREGORIAN
METHOD:PUBLISH
X-WR-CALNAME:Old Courthouse Heritage Museum
X-ORIGINAL-URL:https://cccourthouse.org
X-WR-CALDESC:Events for Old Courthouse Heritage Museum
REFRESH-INTERVAL;VALUE=DURATION:PT1H
X-Robots-Tag:noindex
X-PUBLISHED-TTL:PT1H
BEGIN:VTIMEZONE
TZID:America/New_York
BEGIN:DAYLIGHT
TZOFFSETFROM:-0500
TZOFFSETTO:-0400
TZNAME:EDT
DTSTART:20230312T070000
END:DAYLIGHT
BEGIN:STANDARD
TZOFFSETFROM:-0400
TZOFFSETTO:-0500
TZNAME:EST
DTSTART:20231105T060000
END:STANDARD
BEGIN:DAYLIGHT
TZOFFSETFROM:-0500
TZOFFSETTO:-0400
TZNAME:EDT
DTSTART:20240310T070000
END:DAYLIGHT
BEGIN:STANDARD
TZOFFSETFROM:-0400
TZOFFSETTO:-0500
TZNAME:EST
DTSTART:20241103T060000
END:STANDARD
BEGIN:DAYLIGHT
TZOFFSETFROM:-0500
TZOFFSETTO:-0400
TZNAME:EDT
DTSTART:20250309T070000
END:DAYLIGHT
BEGIN:STANDARD
TZOFFSETFROM:-0400
TZOFFSETTO:-0500
TZNAME:EST
DTSTART:20251102T060000
END:STANDARD
END:VTIMEZONE
BEGIN:VEVENT
DTSTART;TZID=America/New_York:20241005T100000
DTEND;TZID=America/New_York:20241005T150000
DTSTAMP:20260425T185041
CREATED:20240816T162053Z
LAST-MODIFIED:20240816T162053Z
UID:16382-1728122400-1728140400@cccourthouse.org
SUMMARY:Free Kids' Murder Mystery Game in the Museum
DESCRIPTION:This spooky season\, join a Free Kids’ Murder Mystery Game here at The Old Courthouse Heritage Museum on Saturday\, October 5th. Kids will hunt for clues all over the museum about historical figures involved in a fictional murder plot.\n\nSessions begin at 10 am\, 12 noon and 2 pm. Expect it to take you about an hour. Recommended for kids ages 7 and up. Parents and accompanying adults must supervise your children for the duration of the event and may need to assist. Please call the museum office at (352) 341-6428 between Tuesday and Saturday to preregister and choose your start time.\n\nKids who finish the hunt will receive a prize. Be sure not to run as it isn’t a race\, and be sure not to say what you think the answer is to other families who are playing\, too.
URL:https://cccourthouse.org/event/free-kids-murder-mystery-game-in-the-museum/
LOCATION:Old Courthouse Heritage Museum\, 1 Courthouse Square\, Inverness\, FL\, 34450\, United States
ATTACH;FMTTYPE=image/png:https://cccourthouse.org/wp-content/uploads/2024/08/Oct-2024-Kids-Murder-Mystery.png
END:VEVENT
BEGIN:VEVENT
DTSTART;TZID=America/New_York:20241011T100000
DTEND;TZID=America/New_York:20241011T120000
DTSTAMP:20260425T185041
CREATED:20241001T181323Z
LAST-MODIFIED:20241001T181435Z
UID:16548-1728640800-1728648000@cccourthouse.org
SUMMARY:Fall Wreaths Craft Class for Adults
DESCRIPTION:Update: This class has been rescheduled from September 27th to October 11th due to closures for Hurricane Helene. The registration is full\, but a wait list option is available. For further information\, please call the museum office. \nJoin us at The Old Courthouse Heritage Museum for a crafting class for adults where we’ll be creating Fall Wreaths. This class requires a $5.00 fee to be paid to the Citrus County Historical Society at the door in the gift shop upon arrival. Spaces are limited so please preregister by calling the museum office at (352) 341-6428 to reserve your seat. Please be advised that showing up on the day of the event may not guarantee you a seat as our classes often fill up in advance. We recommend parking in one of the parking lots. There is one lot between the Sheriff’s office building and the Old Courthouse Heritage Museum and another lot located just North of and adjacent to the Sheriff’s office building. Much of the street side parking around the square has a two-hour limit as posted on signs\, they do ticket\, and the class may last about 2 hours.\n 
URL:https://cccourthouse.org/event/fall-wreaths-craft-class-for-adults/
LOCATION:Old Courthouse Heritage Museum\, 1 Courthouse Square\, Inverness\, FL\, 34450\, United States
END:VEVENT
BEGIN:VEVENT
DTSTART;TZID=America/New_York:20241012T090000
DTEND;TZID=America/New_York:20241012T100000
DTSTAMP:20260425T185041
CREATED:20240822T164632Z
LAST-MODIFIED:20240822T164632Z
UID:16411-1728723600-1728727200@cccourthouse.org
SUMMARY:Inverness Walks: Historic Downtown Walking Tour
DESCRIPTION:Join staff from The Old Courthouse Heritage Museum and Citrus County Historical Society for our monthly Historic Downtown Walking Tour. Together\, we’ll explore the downtown area and you’ll learn the history of the who\, how\, and why of the buildings around the Downtown Square. At 9 am every second Saturday of the month. Tour lasts for about an hour. $5 suggested donation for adults and $2 for children. Spaces are limited. Please RSVP by calling our office between Tuesday and Saturday at (352) 341-6428.
URL:https://cccourthouse.org/event/inverness-walks-historic-downtown-walking-tour-18/
LOCATION:Old Courthouse Heritage Museum\, 1 Courthouse Square\, Inverness\, FL\, 34450\, United States
ATTACH;FMTTYPE=image/png:https://cccourthouse.org/wp-content/uploads/2024/08/Inverness-Walks-Flyer.png
END:VEVENT
BEGIN:VEVENT
DTSTART;TZID=America/New_York:20241019T130000
DTEND;TZID=America/New_York:20241019T143000
DTSTAMP:20260425T185041
CREATED:20240820T191943Z
LAST-MODIFIED:20240820T191943Z
UID:16405-1729342800-1729348200@cccourthouse.org
SUMMARY:Free Event: A GOURDgeous Crafternoon for Kids
DESCRIPTION:On Saturday\, October 19th at 1:00 pm\, The Old Courthouse Heritage Museum presents a GOURDgeous Crafternoon for Kids- a free event!\nKids ages 3 and up can paint on dried gourds and create crafty Fall keepsakes inside the historic courtroom. Parental supervision required. Limited spaces. Please preregister. Call the museum office between Tuesday and Saturday at (352) 341-6428 to sign up.
URL:https://cccourthouse.org/event/free-event-a-gourdgeous-crafternoon-for-kids/
LOCATION:Old Courthouse Heritage Museum\, 1 Courthouse Square\, Inverness\, FL\, 34450\, United States
ATTACH;FMTTYPE=image/png:https://cccourthouse.org/wp-content/uploads/2024/08/Gourdgeous-Kids-Crafternoon.png
END:VEVENT
BEGIN:VEVENT
DTSTART;TZID=America/New_York:20241019T160000
DTEND;TZID=America/New_York:20241019T173000
DTSTAMP:20260425T185041
CREATED:20241001T182217Z
LAST-MODIFIED:20241001T182217Z
UID:16550-1729353600-1729359000@cccourthouse.org
SUMMARY:Free Community Forum: Let's Preserve Trees (rescheduled)
DESCRIPTION:Update: This event has been rescheduled from Saturday\, September 28th to Saturday October 19th at 4:00 pm due to the interruption by Hurricane Helene.\n\nJoin Keep Citrus County Beautiful and Citrus County Historical Society at The Old Courthouse Heritage Museum for the culmination of Save Our Waters Week this year as we present:\n“Let’s Preserve Trees\,” a free community forum. Panelists include:\n\nCounty Commissioner Rebecca Bays\nJoe Hochadel form Citrus County’s Land Development Department\nand Ryan Klein of University of Florida’s Department of Environmental Horticulture\n\nCome be part of this important conversation about the importance of protecting Citrus County’s tree canopy\, with regards to the watershed\, too.\nFree light refreshments will be served. To RSVP\, please call (352) 341-6428.
URL:https://cccourthouse.org/event/free-community-forum-lets-preserve-trees-rescheduled/
LOCATION:Old Courthouse Heritage Museum\, 1 Courthouse Square\, Inverness\, FL\, 34450\, United States
END:VEVENT
BEGIN:VEVENT
DTSTART;TZID=America/New_York:20241025T173000
DTEND;TZID=America/New_York:20241026T220000
DTSTAMP:20260425T185041
CREATED:20241001T183810Z
LAST-MODIFIED:20241001T183810Z
UID:16552-1729877400-1729980000@cccourthouse.org
SUMMARY:Historic Haunt by Twistid Arts Initiative
DESCRIPTION:Join Twistid Arts Initiative for the culmination of their Cootertober event at Historic Haunt during the evenings on Friday\, October 25th and Saturday\, October 26th. This is an immersive haunt experience utilizing The Old Courthouse as a venue. For tickets and information\, please reach out to TwistidArtsInitiative.org  \n 
URL:https://cccourthouse.org/event/historic-haunt-by-twistid-arts-initiative/
LOCATION:Old Courthouse Heritage Museum\, 1 Courthouse Square\, Inverness\, FL\, 34450\, United States
ATTACH;FMTTYPE=image/jpeg:https://cccourthouse.org/wp-content/uploads/2024/10/2024-Historic-Haunt-Flyers.jpg
END:VEVENT
BEGIN:VEVENT
DTSTART;TZID=America/New_York:20241029T100000
DTEND;TZID=America/New_York:20241029T120000
DTSTAMP:20260425T185041
CREATED:20240822T161855Z
LAST-MODIFIED:20240822T161855Z
UID:16408-1730196000-1730203200@cccourthouse.org
SUMMARY:Art Class for Adults: Pumpkin Paintings
DESCRIPTION:Join The Old Courthouse Heritage Museum on Tuesday\, October 29th at 10 am for an art class for adults. We’ll teach you how to create a beautiful painting of a pumpkin on a large canvas with step-by-step instructions.\n\nThere will be a $5 fee at the door for this class to help us cover supplies. Preregistration is required as spaces and supplies are limited and the class may fill up ahead of time. To preregister\, please call the museum office between Tuesday and Saturday at (352) 341-6428 prior to the event date.\n\nFriendly reminder: there is a 2-hour limit to parking streetside around the square on weekdays and the class may last that long or slightly longer. To avoid a parking ticket\, we highly recommend parking in the parking lot between the Old Courthouse and the Sheriff building or the other lot next to the Sheriff building and Cooter Pond which are free all day without the possibility of a ticket.
URL:https://cccourthouse.org/event/art-class-for-adults-pumpkin-paintings/
LOCATION:Old Courthouse Heritage Museum\, 1 Courthouse Square\, Inverness\, FL\, 34450\, United States
ATTACH;FMTTYPE=image/png:https://cccourthouse.org/wp-content/uploads/2024/08/Oct-2024-pumpkin-painting-class-flyer.png
END:VEVENT
BEGIN:VEVENT
DTSTART;TZID=America/New_York:20241030T170000
DTEND;TZID=America/New_York:20241030T200000
DTSTAMP:20260425T185041
CREATED:20240824T123706Z
LAST-MODIFIED:20240824T123706Z
UID:16430-1730307600-1730318400@cccourthouse.org
SUMMARY:Free Halloween Bazaar for Kids!
DESCRIPTION:Join us at The Old Courthouse Heritage Museum along with many businesses in Downtown Inverness for trick or treating from shop to shop on the evening of Wednesday\, October 30th. We’ll have a Halloween Bazaar with activity booths and free candy for kids!\n\nChildren must be supervised by parents and accompanying adults. No preregistration required- just drop in at The Old Courthouse at 1 Courthouse Square.\nFor additional information\, call (352) 341-6428.
URL:https://cccourthouse.org/event/free-halloween-bazaar-for-kids/
LOCATION:Old Courthouse Heritage Museum\, 1 Courthouse Square\, Inverness\, FL\, 34450\, United States
ATTACH;FMTTYPE=image/png:https://cccourthouse.org/wp-content/uploads/2024/08/Halloween-Bazaar-Flyer-3.png
END:VEVENT
END:VCALENDAR