BEGIN:VCALENDAR
VERSION:2.0
PRODID:-//Old Courthouse Heritage Museum - ECPv6.15.20//NONSGML v1.0//EN
CALSCALE:GREGORIAN
METHOD:PUBLISH
X-WR-CALNAME:Old Courthouse Heritage Museum
X-ORIGINAL-URL:https://cccourthouse.org
X-WR-CALDESC:Events for Old Courthouse Heritage Museum
REFRESH-INTERVAL;VALUE=DURATION:PT1H
X-Robots-Tag:noindex
X-PUBLISHED-TTL:PT1H
BEGIN:VTIMEZONE
TZID:America/New_York
BEGIN:DAYLIGHT
TZOFFSETFROM:-0500
TZOFFSETTO:-0400
TZNAME:EDT
DTSTART:20250309T070000
END:DAYLIGHT
BEGIN:STANDARD
TZOFFSETFROM:-0400
TZOFFSETTO:-0500
TZNAME:EST
DTSTART:20251102T060000
END:STANDARD
BEGIN:DAYLIGHT
TZOFFSETFROM:-0500
TZOFFSETTO:-0400
TZNAME:EDT
DTSTART:20260308T070000
END:DAYLIGHT
BEGIN:STANDARD
TZOFFSETFROM:-0400
TZOFFSETTO:-0500
TZNAME:EST
DTSTART:20261101T060000
END:STANDARD
BEGIN:DAYLIGHT
TZOFFSETFROM:-0500
TZOFFSETTO:-0400
TZNAME:EDT
DTSTART:20270314T070000
END:DAYLIGHT
BEGIN:STANDARD
TZOFFSETFROM:-0400
TZOFFSETTO:-0500
TZNAME:EST
DTSTART:20271107T060000
END:STANDARD
END:VTIMEZONE
BEGIN:VEVENT
DTSTART;TZID=America/New_York:20260314T090000
DTEND;TZID=America/New_York:20260314T101500
DTSTAMP:20260425T123223
CREATED:20260114T133757Z
LAST-MODIFIED:20260114T133757Z
UID:17625-1773478800-1773483300@cccourthouse.org
SUMMARY:Inverness Walks: Historic Downtown Walking Tour
DESCRIPTION:Join staff from the Old Courthouse Heritage Museum and Citrus County Historical Society for our monthly Historic Downtown Walking Tour. Together we’ll explore the downtown area\, and you’ll learn the history of the who\, the how\, and the why of the buildings around the downtown Square. At 9 am every second Saturday of the month. Tour lasts about an hour. $5 suggested donation for adults and $2 for kids. Please RSVP by calling our office between Tuesday and Saturday at (352) 341-6428.
URL:https://cccourthouse.org/event/inverness-walks-historic-downtown-walking-tour-35/
LOCATION:Old Courthouse Heritage Museum\, 1 Courthouse Square\, Inverness\, FL\, 34450\, United States
ATTACH;FMTTYPE=image/png:https://cccourthouse.org/wp-content/uploads/2025/11/Inverness-Walks-Flyer.png
ORGANIZER;CN="Citrus County Historical Society":MAILTO:csociety@tampabay.rr.com
END:VEVENT
BEGIN:VEVENT
DTSTART;TZID=America/New_York:20260314T103000
DTEND;TZID=America/New_York:20260314T113000
DTSTAMP:20260425T123223
CREATED:20251216T153941Z
LAST-MODIFIED:20251216T153941Z
UID:17561-1773484200-1773487800@cccourthouse.org
SUMMARY:Turtle Trek: A free kids' nature walk at Cooter Pond
DESCRIPTION:Join our staff for a Free Kids’ Nature Walk at Cooter Pond. Meet inside The Old Courthouse Heritage Museum before 10:30 am. We’ll lead the walk across the street and walk the wooden boardwalk over the pond tell you about the plants\, birds and gators. This is fun for the whole family!\nWe kindly ask you to preregister at (352) 341-6428. Please supervise your children for the duration of the event.
URL:https://cccourthouse.org/event/turtle-trek-a-free-kids-nature-walk-at-cooter-pond-5/
LOCATION:Old Courthouse Heritage Museum\, 1 Courthouse Square\, Inverness\, FL\, 34450\, United States
ATTACH;FMTTYPE=image/png:https://cccourthouse.org/wp-content/uploads/2025/12/March-14-2026-Turtle-Trek.png
END:VEVENT
BEGIN:VEVENT
DTSTART;TZID=America/New_York:20260319T190000
DTEND;TZID=America/New_York:20260319T210000
DTSTAMP:20260425T123223
CREATED:20251126T194553Z
LAST-MODIFIED:20251126T194553Z
UID:17500-1773946800-1773954000@cccourthouse.org
SUMMARY:Music at the Museum: Cool Corporate Cats
DESCRIPTION:The Old Courthouse Heritage Museum together with Inverness Cultural Heritage Council and Citrus County Historical Society are excited to welcome back Cool Corporate Cats for Music at the Museum on Thursday\, March 19\, 2026 at 7:00 pm. Doors open at 6:30 pm and tickets are $25. Members of the historical society may receive $5 off for up to 4 tickets. For more information\, please call (352) 341-6428. To purchase tickets\, please visit: Citrus County Historical Society – Shop Online\n\nCool Corporate Cats are a 30-year Florida-based band playing some of the best blues and jazz you’ll ever hear with Florida Jazz Hall of Famer and saxophonist\, Joe Donato\, and Sir Dell O. Barnes\, Sr. -soulful tenor saxophonist!
URL:https://cccourthouse.org/event/music-at-the-museum-cool-corporate-cats-4/
LOCATION:Old Courthouse Heritage Museum\, 1 Courthouse Square\, Inverness\, FL\, 34450\, United States
ATTACH;FMTTYPE=image/png:https://cccourthouse.org/wp-content/uploads/2025/11/cool-cats-2026-flyer.png
END:VEVENT
BEGIN:VEVENT
DTSTART;TZID=America/New_York:20260326T190000
DTEND;TZID=America/New_York:20260326T203000
DTSTAMP:20260425T123223
CREATED:20260108T200841Z
LAST-MODIFIED:20260109T131403Z
UID:17595-1774551600-1774557000@cccourthouse.org
SUMMARY:Free Coffee and Conversation: Tunes\, Tastes\, and Tales from the Museum Café
DESCRIPTION:Free Coffee and Conversation: Tunes\, Tastes\, and Tales from the Museum Café with James “Boe” Anderson. \n\n\nThursday\, March 26\, 2026 at 7:00 pm. This Grand Opening Event of our exhibit\, “Florida Foodways: A Taste Through Time” is part of a series of exhibits that explore local foodways and is brought to you by Florida Humanities in collaboration with the Smithsonian Institution’s Museum on Main Street program. Please RSVP in advance at (352) 341-6428. \n\n\nJames “Boe” Anderson is a fourth generation Floridian born in Thonotosassa. He moved to Tampa in his early years and studied the printing trade. In 1971\, he began his commercial experience in printing. In 1980\, Gemini Graphics Printing\, Inc.\, was conceived and remains in operation. In 1995 the company moved from Tampa to Homosassa where Jim started the Olde Mill House Gallery and Printing Museum which highlights the importance of preserving the history of the letterpress trade in Florida. the connected museum café includes Old and New Florida flavors with a locally revered Ybor city style Cuban sandwich\, Spanish bean soup\, black beans and rice\, and other favorites. Learn about the cuban sandwich rivalry between ybor city and miami\, while taking in our new exhibit of local food history. Bonus: We’ll provide sandwiches to taste and some musical ambience\, as Jim is also an accomplished musician with the band\, Cool Corporate Cats. In his music circle he is known as “BoeCat” and has released 4 CD Albums\, Suspicious\, Dangerous Dreamer\, Sugar Sand\, and Tampa Bound. He is president of the Nature Coast Friends of Blues and offers the museum café as a host to the NCFB monthly Music Series on the third Saturday afternoon of every month.
URL:https://cccourthouse.org/event/free-coffee-and-conversation-tunes-tastes-and-tales-from-the-museum-cafe/
LOCATION:Old Courthouse Heritage Museum\, 1 Courthouse Square\, Inverness\, FL\, 34450\, United States
ATTACH;FMTTYPE=image/png:https://cccourthouse.org/wp-content/uploads/2026/01/March-2026-Coffee-and-Conversation-Event-flyer.png
END:VEVENT
BEGIN:VEVENT
DTSTART;TZID=America/New_York:20260328T130000
DTEND;TZID=America/New_York:20260328T143000
DTSTAMP:20260425T123223
CREATED:20260103T133246Z
LAST-MODIFIED:20260103T133246Z
UID:17585-1774702800-1774708200@cccourthouse.org
SUMMARY:Free Kids' Crafternoon: Blobby Birds
DESCRIPTION:The Old Courthouse Heritage Museum presents a Free Kids’ Crafternoon where kids can learn to paint blobby birds in watercolor! For ages 4 and up. Supplies and spaces are limited so please preregister by calling our office at (352) 341-6428. Parental supervision is required for the duration of the event.
URL:https://cccourthouse.org/event/free-kids-crafternoon-blobby-birds/
LOCATION:Old Courthouse Heritage Museum\, 1 Courthouse Square\, Inverness\, FL\, 34450\, United States
ATTACH;FMTTYPE=image/png:https://cccourthouse.org/wp-content/uploads/2026/01/March-28-2026-Blobby-Birds-flyer.png
END:VEVENT
BEGIN:VEVENT
DTSTART;TZID=America/New_York:20260401T103000
DTEND;TZID=America/New_York:20260401T120000
DTSTAMP:20260425T123223
CREATED:20260113T183346Z
LAST-MODIFIED:20260113T183346Z
UID:17622-1775039400-1775044800@cccourthouse.org
SUMMARY:Creating Faux Stained Glass: A Craft Class for Adults
DESCRIPTION:Join our museum volunteer\, Cyndy\, as she leads another craft class for adults on “Color\, Line\, and Light: Creating Faux Stained Glass.” No prior art experience is needed to create this cool Spring themed project.\nA $5.00 fee will be collected at the door. Limited spaces and supplies. Please preregister by calling our office at (352) 341-6428. to insure you get a seat.\nStreetside parking around the courthouse is limited to 2 hours and they do ticket. We recommend parking in one of the lots just to the East of us and across the street to avoid tickets in case your stay with us lasts 2 or more hours.
URL:https://cccourthouse.org/event/creating-faux-stained-glass-a-craft-class-for-adults/
LOCATION:Old Courthouse Heritage Museum\, 1 Courthouse Square\, Inverness\, FL\, 34450\, United States
ATTACH;FMTTYPE=image/png:https://cccourthouse.org/wp-content/uploads/2026/01/April-1st-Flyer-Spring-Art-Workshop.png
END:VEVENT
BEGIN:VEVENT
DTSTART;TZID=America/New_York:20260411T130000
DTEND;TZID=America/New_York:20260411T143000
DTSTAMP:20260425T123223
CREATED:20260204T140328Z
LAST-MODIFIED:20260204T140328Z
UID:17676-1775912400-1775917800@cccourthouse.org
SUMMARY:Free Kids' Crafternoon: Cattle Puppets
DESCRIPTION:Bring the kids to The Old Courthouse Heritage Museum for a free Kids’ Crafternoon on Saturday\, April 11th at 1:00 pm. We’re making cattle puppets!\nWe’ll give a brief lesson on Florida’s cattle history and start crafting. This no sew hand puppet is made with felt\, glue\, a stencil and scissors. It is recommended for kids ages 5 and up. Spaces and supplies are limited. Please call to preregister at (352) 341-6428. During your visit\, be sure to stop into see our new exhibit\, “Florida Foodways: A Taste Through Time\,” on local food history including our cattle industry in Citrus County!
URL:https://cccourthouse.org/event/free-kids-crafternoon-cattle-puppets/
LOCATION:Old Courthouse Heritage Museum\, 1 Courthouse Square\, Inverness\, FL\, 34450\, United States
ATTACH;FMTTYPE=image/png:https://cccourthouse.org/wp-content/uploads/2026/02/April-11th-Kids-Cattle-Puppets-flyer.png
END:VEVENT
BEGIN:VEVENT
DTSTART;TZID=America/New_York:20260416T190000
DTEND;TZID=America/New_York:20260416T210000
DTSTAMP:20260425T123223
CREATED:20251202T165937Z
LAST-MODIFIED:20251202T165937Z
UID:17529-1776366000-1776373200@cccourthouse.org
SUMMARY:Music at the Museum: Surfin' Safari with Johnny Wild and the Delights
DESCRIPTION:The Old Courthouse Heritage Museum with Citrus County Historical Society and Inverness Cultural Heritage Council are excited to welcome back Johnny Wild and the Delights to Music at the Museum. This is the Southeast’s number 1 band performing 50’s and 60’s music. This time they’ll be performing Surfin’ Safari with The Beach Boys and other favorites! The show will be hosted on Thursday\, April 16th at 7 pm. Doors open at 6:30 pm. Tickets are $25 with $5 discounts on up to 4 tickets for members of the historical society. To purchase tickets\, visit Citrus County Historical Society – Shop Online\nFor more information\, call (352) 341-6428.
URL:https://cccourthouse.org/event/music-at-the-museum-surfin-safari-with-johnny-wild-and-the-delights/
LOCATION:Old Courthouse Heritage Museum\, 1 Courthouse Square\, Inverness\, FL\, 34450\, United States
ATTACH;FMTTYPE=image/png:https://cccourthouse.org/wp-content/uploads/2025/12/Johnny-Wild-flyer-2026.png
END:VEVENT
BEGIN:VEVENT
DTSTART;TZID=America/New_York:20260430T100000
DTEND;TZID=America/New_York:20260430T113000
DTSTAMP:20260425T123223
CREATED:20260213T202030Z
LAST-MODIFIED:20260213T202030Z
UID:17695-1777543200-1777548600@cccourthouse.org
SUMMARY:Free Coffee and Conversation- Destination: Delicious\, A Florida Foodie Adventure!
DESCRIPTION:Free Coffee and Conversation- Destination: Delicious\, A Florida Foodie Adventure\n\nPlease RSVP to join us at (352) 341-6428.\n\nGrab your favorite road trip snack and buckle up for this Florida foodie adventure. In partnership with Florida Humanities and the Smithsonian Institute\, seven historical societies across the state have created exhibitions about their town’s unique foodways. Food journalist and cookbook author Dalia Colón served as lead scholar for the project\, helping the organizations to synthesize historical research\, artifacts and contemporary interviews. In celebration of the exhibitions’ openings\, Dalia invites you on a journey through all seven towns. At each stop\, we will explore culinary history\, current tastemakers and audio excerpts from Dalia’s food reporting adventures. After getting a taste of the exhibitions\, you’ll be hungry to embark on your own Florida foodie road trip!\nAnd bonus: Savor the local flavors of some of our best foodie stops here in Citrus County!
URL:https://cccourthouse.org/event/free-coffee-and-conversation-destination-delicious-a-florida-foodie-adventure/
LOCATION:Old Courthouse Heritage Museum\, 1 Courthouse Square\, Inverness\, FL\, 34450\, United States
ATTACH;FMTTYPE=image/png:https://cccourthouse.org/wp-content/uploads/2026/02/Destination-Delicious-Inverness-flyer.png
END:VEVENT
BEGIN:VEVENT
DTSTART;TZID=America/New_York:20260505T103000
DTEND;TZID=America/New_York:20260505T120000
DTSTAMP:20260425T123223
CREATED:20260225T132318Z
LAST-MODIFIED:20260225T132318Z
UID:17711-1777977000-1777982400@cccourthouse.org
SUMMARY:Adult Craft Class: Egg Carton Tulips
DESCRIPTION:The Old Courthouse Heritage Museum presents Egg Carton Tulips- a Spring Craft Class for Adults! The session will be held on Tuesday\, May 5th at 10:30 am.\nCreate a bouquet of flowers made from egg cartons! $5.00 fee at the door. Limited seats and supplies. Please preregister by calling our office at (352) 341-6428.
URL:https://cccourthouse.org/event/adult-craft-class-egg-carton-tulips/
LOCATION:Old Courthouse Heritage Museum\, 1 Courthouse Square\, Inverness\, FL\, 34450\, United States
ATTACH;FMTTYPE=image/png:https://cccourthouse.org/wp-content/uploads/2026/02/Egg-carton-tulips-flyer.png
END:VEVENT
BEGIN:VEVENT
DTSTART;TZID=America/New_York:20260605T103000
DTEND;TZID=America/New_York:20260605T120000
DTSTAMP:20260425T123223
CREATED:20260226T142153Z
LAST-MODIFIED:20260226T142153Z
UID:17714-1780655400-1780660800@cccourthouse.org
SUMMARY:Firefly Lights\, a Craft Class for Adults
DESCRIPTION:The Old Courthouse Heritage Museum presents: Firefly Lights\, a Summer Craft Class for Adults.\nCreate a craft resembling fireflies in a jar!A fee of $5.00 is collected at the door.Seats and supplies are limited\, so please preregister by calling our office at (352) 341-6428.\nBe sure to park in one of the parking lots just to the East of our building and across the street. The streetside parking has a 2-hour limit and tickets are often issued if a person stays over that limit.
URL:https://cccourthouse.org/event/firefly-lights-a-craft-class-for-adults/
LOCATION:Old Courthouse Heritage Museum\, 1 Courthouse Square\, Inverness\, FL\, 34450\, United States
ATTACH;FMTTYPE=image/png:https://cccourthouse.org/wp-content/uploads/2026/02/June-Firefly-Lights-flyer-2.png
END:VEVENT
END:VCALENDAR