BEGIN:VCALENDAR
VERSION:2.0
PRODID:-//Old Courthouse Heritage Museum - ECPv6.15.20//NONSGML v1.0//EN
CALSCALE:GREGORIAN
METHOD:PUBLISH
X-WR-CALNAME:Old Courthouse Heritage Museum
X-ORIGINAL-URL:https://cccourthouse.org
X-WR-CALDESC:Events for Old Courthouse Heritage Museum
REFRESH-INTERVAL;VALUE=DURATION:PT1H
X-Robots-Tag:noindex
X-PUBLISHED-TTL:PT1H
BEGIN:VTIMEZONE
TZID:America/New_York
BEGIN:DAYLIGHT
TZOFFSETFROM:-0500
TZOFFSETTO:-0400
TZNAME:EDT
DTSTART:20250309T070000
END:DAYLIGHT
BEGIN:STANDARD
TZOFFSETFROM:-0400
TZOFFSETTO:-0500
TZNAME:EST
DTSTART:20251102T060000
END:STANDARD
BEGIN:DAYLIGHT
TZOFFSETFROM:-0500
TZOFFSETTO:-0400
TZNAME:EDT
DTSTART:20260308T070000
END:DAYLIGHT
BEGIN:STANDARD
TZOFFSETFROM:-0400
TZOFFSETTO:-0500
TZNAME:EST
DTSTART:20261101T060000
END:STANDARD
BEGIN:DAYLIGHT
TZOFFSETFROM:-0500
TZOFFSETTO:-0400
TZNAME:EDT
DTSTART:20270314T070000
END:DAYLIGHT
BEGIN:STANDARD
TZOFFSETFROM:-0400
TZOFFSETTO:-0500
TZNAME:EST
DTSTART:20271107T060000
END:STANDARD
END:VTIMEZONE
BEGIN:VEVENT
DTSTART;TZID=America/New_York:20260314T090000
DTEND;TZID=America/New_York:20260314T101500
DTSTAMP:20260424T163858
CREATED:20260114T133757Z
LAST-MODIFIED:20260114T133757Z
UID:17625-1773478800-1773483300@cccourthouse.org
SUMMARY:Inverness Walks: Historic Downtown Walking Tour
DESCRIPTION:Join staff from the Old Courthouse Heritage Museum and Citrus County Historical Society for our monthly Historic Downtown Walking Tour. Together we’ll explore the downtown area\, and you’ll learn the history of the who\, the how\, and the why of the buildings around the downtown Square. At 9 am every second Saturday of the month. Tour lasts about an hour. $5 suggested donation for adults and $2 for kids. Please RSVP by calling our office between Tuesday and Saturday at (352) 341-6428.
URL:https://cccourthouse.org/event/inverness-walks-historic-downtown-walking-tour-35/
LOCATION:Old Courthouse Heritage Museum\, 1 Courthouse Square\, Inverness\, FL\, 34450\, United States
ATTACH;FMTTYPE=image/png:https://cccourthouse.org/wp-content/uploads/2025/11/Inverness-Walks-Flyer.png
ORGANIZER;CN="Citrus County Historical Society":MAILTO:csociety@tampabay.rr.com
END:VEVENT
BEGIN:VEVENT
DTSTART;TZID=America/New_York:20260314T103000
DTEND;TZID=America/New_York:20260314T113000
DTSTAMP:20260424T163858
CREATED:20251216T153941Z
LAST-MODIFIED:20251216T153941Z
UID:17561-1773484200-1773487800@cccourthouse.org
SUMMARY:Turtle Trek: A free kids' nature walk at Cooter Pond
DESCRIPTION:Join our staff for a Free Kids’ Nature Walk at Cooter Pond. Meet inside The Old Courthouse Heritage Museum before 10:30 am. We’ll lead the walk across the street and walk the wooden boardwalk over the pond tell you about the plants\, birds and gators. This is fun for the whole family!\nWe kindly ask you to preregister at (352) 341-6428. Please supervise your children for the duration of the event.
URL:https://cccourthouse.org/event/turtle-trek-a-free-kids-nature-walk-at-cooter-pond-5/
LOCATION:Old Courthouse Heritage Museum\, 1 Courthouse Square\, Inverness\, FL\, 34450\, United States
ATTACH;FMTTYPE=image/png:https://cccourthouse.org/wp-content/uploads/2025/12/March-14-2026-Turtle-Trek.png
END:VEVENT
END:VCALENDAR