BEGIN:VCALENDAR
VERSION:2.0
PRODID:-//Old Courthouse Heritage Museum - ECPv6.15.20//NONSGML v1.0//EN
CALSCALE:GREGORIAN
METHOD:PUBLISH
X-WR-CALNAME:Old Courthouse Heritage Museum
X-ORIGINAL-URL:https://cccourthouse.org
X-WR-CALDESC:Events for Old Courthouse Heritage Museum
REFRESH-INTERVAL;VALUE=DURATION:PT1H
X-Robots-Tag:noindex
X-PUBLISHED-TTL:PT1H
BEGIN:VTIMEZONE
TZID:America/New_York
BEGIN:DAYLIGHT
TZOFFSETFROM:-0500
TZOFFSETTO:-0400
TZNAME:EDT
DTSTART:20250309T070000
END:DAYLIGHT
BEGIN:STANDARD
TZOFFSETFROM:-0400
TZOFFSETTO:-0500
TZNAME:EST
DTSTART:20251102T060000
END:STANDARD
BEGIN:DAYLIGHT
TZOFFSETFROM:-0500
TZOFFSETTO:-0400
TZNAME:EDT
DTSTART:20260308T070000
END:DAYLIGHT
BEGIN:STANDARD
TZOFFSETFROM:-0400
TZOFFSETTO:-0500
TZNAME:EST
DTSTART:20261101T060000
END:STANDARD
BEGIN:DAYLIGHT
TZOFFSETFROM:-0500
TZOFFSETTO:-0400
TZNAME:EDT
DTSTART:20270314T070000
END:DAYLIGHT
BEGIN:STANDARD
TZOFFSETFROM:-0400
TZOFFSETTO:-0500
TZNAME:EST
DTSTART:20271107T060000
END:STANDARD
END:VTIMEZONE
BEGIN:VEVENT
DTSTART;TZID=America/New_York:20260228T130000
DTEND;TZID=America/New_York:20260228T143000
DTSTAMP:20260424T163757
CREATED:20251216T140549Z
LAST-MODIFIED:20251216T140549Z
UID:17558-1772283600-1772289000@cccourthouse.org
SUMMARY:Free Kids' Crafternoon: Designing Birdhouses
DESCRIPTION:Bring the kids to join staff at The Old Courthouse Heritage Museum as we paint designs on birdhouses for the Spring. This Free Kids’ Crafternoon will be hosted on Saturday\, February 28\, 2026 at 1:00 pm. Preregistration is required as there are limited seats- to sign up\, please call (352) 341-6428 in advance of the event. The activity is for ages 3 and up. We’ll be in the historic courtroom. Check in downstairs with our docent prior to joining the class. Parental supervision is required for the duration of the event.
URL:https://cccourthouse.org/event/free-kids-crafternoon-designing-birdhouses/
LOCATION:Old Courthouse Heritage Museum\, 1 Courthouse Square\, Inverness\, FL\, 34450\, United States
ATTACH;FMTTYPE=image/png:https://cccourthouse.org/wp-content/uploads/2025/12/Feb-2026-Birdhouse-kids-crafternoon-flyer.png
END:VEVENT
END:VCALENDAR