BEGIN:VCALENDAR
VERSION:2.0
PRODID:-//Old Courthouse Heritage Museum - ECPv6.15.20//NONSGML v1.0//EN
CALSCALE:GREGORIAN
METHOD:PUBLISH
X-ORIGINAL-URL:https://cccourthouse.org
X-WR-CALDESC:Events for Old Courthouse Heritage Museum
REFRESH-INTERVAL;VALUE=DURATION:PT1H
X-Robots-Tag:noindex
X-PUBLISHED-TTL:PT1H
BEGIN:VTIMEZONE
TZID:America/New_York
BEGIN:DAYLIGHT
TZOFFSETFROM:-0500
TZOFFSETTO:-0400
TZNAME:EDT
DTSTART:20250309T070000
END:DAYLIGHT
BEGIN:STANDARD
TZOFFSETFROM:-0400
TZOFFSETTO:-0500
TZNAME:EST
DTSTART:20251102T060000
END:STANDARD
BEGIN:DAYLIGHT
TZOFFSETFROM:-0500
TZOFFSETTO:-0400
TZNAME:EDT
DTSTART:20260308T070000
END:DAYLIGHT
BEGIN:STANDARD
TZOFFSETFROM:-0400
TZOFFSETTO:-0500
TZNAME:EST
DTSTART:20261101T060000
END:STANDARD
BEGIN:DAYLIGHT
TZOFFSETFROM:-0500
TZOFFSETTO:-0400
TZNAME:EDT
DTSTART:20270314T070000
END:DAYLIGHT
BEGIN:STANDARD
TZOFFSETFROM:-0400
TZOFFSETTO:-0500
TZNAME:EST
DTSTART:20271107T060000
END:STANDARD
END:VTIMEZONE
BEGIN:VEVENT
DTSTART;TZID=America/New_York:20260212T190000
DTEND;TZID=America/New_York:20260212T203000
DTSTAMP:20260424T180221
CREATED:20260102T203753Z
LAST-MODIFIED:20260102T203753Z
UID:17582-1770922800-1770928200@cccourthouse.org
SUMMARY:Free Coffee and Conversation on Zora Neale Hurston: The Founding Mother of American Musicology
DESCRIPTION:The Old Courthouse Heritage Museum presents a Free Coffee and Conversation about Zora Neale Hurston: The Founding Mother of American Musicology with Dr. Panayotis League on Thursday\, February 12th at 7 pm. Free coffee and light refreshments. Please RSVP in advance by calling our office at (352) 341-6428.\n\nZora Neale Hurston is universally renowned for her brilliance as a novelist\, but her importance as a pioneering folklorist and ethnographer is routinely overlooked. This presentation examines Zora’s life and legacy from her training in cultural anthropology to the pioneering fieldwork she conducted in the 1930s. Focusing on her ethnographic masterpiece Mules and Men\, this presentation explores her work among African American musicians\, storytellers\, and craftspeople in her hometown of Eatonville\, Florida\, showing how Zora’s research was decades ahead of her time and inspired generations of scholars and artists.\nDr. Panayotis (Paddy) League is a musicologist\, author\, performer\, and composer specializing in the traditional music\, dance\, and oral poetry of the Greek island\, Brazil\, Ireland\, and the electric guitar music of the American South. Dr. League serves as Assistant Professor of Ethnomusicology and the Director of the Center for the Music of Americas at Florida State University. He publishes and performs widely\, and was named a Master Artist by the Florida Folklife Program in 2019.
URL:https://cccourthouse.org/event/free-coffee-and-conversation-on-zora-neale-hurston-the-founding-mother-of-american-musicology/
LOCATION:Old Courthouse Heritage Museum\, 1 Courthouse Square\, Inverness\, FL\, 34450\, United States
ATTACH;FMTTYPE=image/png:https://cccourthouse.org/wp-content/uploads/2026/01/Feb-2026-Zora-Event-flyer.png
END:VEVENT
END:VCALENDAR