BEGIN:VCALENDAR
VERSION:2.0
PRODID:-//Old Courthouse Heritage Museum - ECPv6.15.20//NONSGML v1.0//EN
CALSCALE:GREGORIAN
METHOD:PUBLISH
X-ORIGINAL-URL:https://cccourthouse.org
X-WR-CALDESC:Events for Old Courthouse Heritage Museum
REFRESH-INTERVAL;VALUE=DURATION:PT1H
X-Robots-Tag:noindex
X-PUBLISHED-TTL:PT1H
BEGIN:VTIMEZONE
TZID:America/New_York
BEGIN:DAYLIGHT
TZOFFSETFROM:-0500
TZOFFSETTO:-0400
TZNAME:EDT
DTSTART:20250309T070000
END:DAYLIGHT
BEGIN:STANDARD
TZOFFSETFROM:-0400
TZOFFSETTO:-0500
TZNAME:EST
DTSTART:20251102T060000
END:STANDARD
BEGIN:DAYLIGHT
TZOFFSETFROM:-0500
TZOFFSETTO:-0400
TZNAME:EDT
DTSTART:20260308T070000
END:DAYLIGHT
BEGIN:STANDARD
TZOFFSETFROM:-0400
TZOFFSETTO:-0500
TZNAME:EST
DTSTART:20261101T060000
END:STANDARD
BEGIN:DAYLIGHT
TZOFFSETFROM:-0500
TZOFFSETTO:-0400
TZNAME:EDT
DTSTART:20270314T070000
END:DAYLIGHT
BEGIN:STANDARD
TZOFFSETFROM:-0400
TZOFFSETTO:-0500
TZNAME:EST
DTSTART:20271107T060000
END:STANDARD
END:VTIMEZONE
BEGIN:VEVENT
DTSTART;TZID=America/New_York:20260129T190000
DTEND;TZID=America/New_York:20260129T210000
DTSTAMP:20260424T180114
CREATED:20251121T134008Z
LAST-MODIFIED:20251121T150540Z
UID:17485-1769713200-1769720400@cccourthouse.org
SUMMARY:Music at the Museum: The Andrew Collins Trio
DESCRIPTION:Music at the Museum presents The Andrew Collins Trio on Thursday\, January 29th at 7 pm. Doors open at 6:30 pm.$25 tickets. $5 discounts on up to 4 tickets for members.To purchase tickets\, visit: Citrus County Historical Society – Shop OnlineFor info\, call (352) 341-6428\nAndrew Collins cofounded noteworthy Canadian bands like the Creaking Tree String Quartet\, the Foggy Hogtown Boys and\, more recently\, his namesake Trio. This prolific\, robust performer – comfortable on mandolin\, fiddle\, guitar\, mandola and mandocello – composes\, produces\, arranges\, writes and teaches across multiple genres\, including an electrifying fusion of folk\, acoustic roots\, newgrass and even chamber. As Collins gathers up innumerable JUNO nominations (5) and Canadian Folk Music Awards (7) won by his various ensembles\, he’s honing skills for work with his Trio-mates: fellow string guru Adam Shier\, whose versatility shines through on guitar and mandolin\, and in-the-pocket James McEleney holding it down on the bass\, mandocello and vocals.
URL:https://cccourthouse.org/event/music-at-the-museum-the-andrew-collins-trio/
LOCATION:Old Courthouse Heritage Museum\, 1 Courthouse Square\, Inverness\, FL\, 34450\, United States
ATTACH;FMTTYPE=image/png:https://cccourthouse.org/wp-content/uploads/2025/11/Andrew-Collins-Trio-flyer-2026.png
END:VEVENT
END:VCALENDAR