BEGIN:VCALENDAR
VERSION:2.0
PRODID:-//Old Courthouse Heritage Museum - ECPv6.15.20//NONSGML v1.0//EN
CALSCALE:GREGORIAN
METHOD:PUBLISH
X-WR-CALNAME:Old Courthouse Heritage Museum
X-ORIGINAL-URL:https://cccourthouse.org
X-WR-CALDESC:Events for Old Courthouse Heritage Museum
REFRESH-INTERVAL;VALUE=DURATION:PT1H
X-Robots-Tag:noindex
X-PUBLISHED-TTL:PT1H
BEGIN:VTIMEZONE
TZID:America/New_York
BEGIN:DAYLIGHT
TZOFFSETFROM:-0500
TZOFFSETTO:-0400
TZNAME:EDT
DTSTART:20250309T070000
END:DAYLIGHT
BEGIN:STANDARD
TZOFFSETFROM:-0400
TZOFFSETTO:-0500
TZNAME:EST
DTSTART:20251102T060000
END:STANDARD
BEGIN:DAYLIGHT
TZOFFSETFROM:-0500
TZOFFSETTO:-0400
TZNAME:EDT
DTSTART:20260308T070000
END:DAYLIGHT
BEGIN:STANDARD
TZOFFSETFROM:-0400
TZOFFSETTO:-0500
TZNAME:EST
DTSTART:20261101T060000
END:STANDARD
BEGIN:DAYLIGHT
TZOFFSETFROM:-0500
TZOFFSETTO:-0400
TZNAME:EDT
DTSTART:20270314T070000
END:DAYLIGHT
BEGIN:STANDARD
TZOFFSETFROM:-0400
TZOFFSETTO:-0500
TZNAME:EST
DTSTART:20271107T060000
END:STANDARD
END:VTIMEZONE
BEGIN:VEVENT
DTSTART;TZID=America/New_York:20260110T090000
DTEND;TZID=America/New_York:20260110T100000
DTSTAMP:20260424T192850
CREATED:20251121T144831Z
LAST-MODIFIED:20251121T144831Z
UID:17495-1768035600-1768039200@cccourthouse.org
SUMMARY:Inverness Walks: Historic Downtown Walking Tour
DESCRIPTION:Join staff from The Old Courthouse Heritage Museum and Citrus County Historical Society for our monthly Historic Downtown Walking Tour. Together\, we’ll explore the downtown area and you’ll learn the history of the who\, how\, and why of the buildings around the Downtown Square. At 9 am every second Saturday of the month. Tour lasts for about an hour. $5 suggested donation for adults and $2 for children. Spaces are limited. Please RSVP by calling our office between Tuesday and Saturday at (352) 341-6428.
URL:https://cccourthouse.org/event/inverness-walks-historic-downtown-walking-tour-32/
LOCATION:Old Courthouse Heritage Museum\, 1 Courthouse Square\, Inverness\, FL\, 34450\, United States
ATTACH;FMTTYPE=image/png:https://cccourthouse.org/wp-content/uploads/2025/11/Inverness-Walks-Flyer.png
END:VEVENT
BEGIN:VEVENT
DTSTART;TZID=America/New_York:20260110T090000
DTEND;TZID=America/New_York:20260110T101500
DTSTAMP:20260424T192850
CREATED:20260106T212916Z
LAST-MODIFIED:20260106T212916Z
UID:17589-1768035600-1768040100@cccourthouse.org
SUMMARY:Inverness Walks: Historic Downtown Walking Tour
DESCRIPTION:Join staff from the Old Courthouse Heritage Museum and Citrus County Historical Society for our monthly Historic Downtown Walking Tour. Together we’ll explore the downtown area\, and you’ll learn the history of the who\, the how\, and the why of the buildings around the downtown Square. At 9 am every second Saturday of the month. Tour lasts about an hour. $5 suggested donation for adults and $2 for kids. Please RSVP by calling our office between Tuesday and Saturday at (352) 341-6428.
URL:https://cccourthouse.org/event/inverness-walks-historic-downtown-walking-tour-33/
LOCATION:Old Courthouse Heritage Museum\, 1 Courthouse Square\, Inverness\, FL\, 34450\, United States
ATTACH;FMTTYPE=image/png:https://cccourthouse.org/wp-content/uploads/2026/01/Inverness-Walks-Flyer.png
END:VEVENT
BEGIN:VEVENT
DTSTART;TZID=America/New_York:20260110T103000
DTEND;TZID=America/New_York:20260110T113000
DTSTAMP:20260424T192850
CREATED:20251118T200022Z
LAST-MODIFIED:20251118T200022Z
UID:17475-1768041000-1768044600@cccourthouse.org
SUMMARY:Free Kids' Makers Morning: Penguin Poppers
DESCRIPTION:Bring the kids for a free hour of crafting to make penguin poppers- a fun little penguin gadget that pops cotton and pom pom balls up in the air! For ages 4 and up!\nSpaces and supplies are limited. Please preregister by calling us in advance at (352) 341-6428.
URL:https://cccourthouse.org/event/free-kids-makers-morning-penguin-poppers/
LOCATION:Old Courthouse Heritage Museum\, 1 Courthouse Square\, Inverness\, FL\, 34450\, United States
ATTACH;FMTTYPE=image/png:https://cccourthouse.org/wp-content/uploads/2025/11/Penguin-poppers-Crafternoon-flyer-2026-3.png
END:VEVENT
BEGIN:VEVENT
DTSTART;TZID=America/New_York:20260110T140000
DTEND;TZID=America/New_York:20260110T160000
DTSTAMP:20260424T192850
CREATED:20251204T132234Z
LAST-MODIFIED:20251204T132234Z
UID:17532-1768053600-1768060800@cccourthouse.org
SUMMARY:Artists' Reception with artOasis
DESCRIPTION:The Old Courthouse Heritage Museum is excited to welcome back the artists of artOasis for another art exhibit in January of 2026\, entitled “Places of the Soul.” Join us for an opening reception with the artists that includes light refreshments on Saturday\, January 10th at 2 pm. RSVPs are appreciated. Please call (352) 341-6428.\nThe exhibit will open Tuesday\, January 6th and stay through Thursday\, March 5th for guests to enjoy during regular hours between 10 am and 4 pm Tuesday through Saturday.
URL:https://cccourthouse.org/event/artists-reception-with-artoasis-3/
LOCATION:Old Courthouse Heritage Museum\, 1 Courthouse Square\, Inverness\, FL\, 34450\, United States
ATTACH;FMTTYPE=image/png:https://cccourthouse.org/wp-content/uploads/2025/12/2026-artOasis-exhibit-flyer.png
END:VEVENT
END:VCALENDAR