BEGIN:VCALENDAR
VERSION:2.0
PRODID:-//Old Courthouse Heritage Museum - ECPv6.15.20//NONSGML v1.0//EN
CALSCALE:GREGORIAN
METHOD:PUBLISH
X-ORIGINAL-URL:https://cccourthouse.org
X-WR-CALDESC:Events for Old Courthouse Heritage Museum
REFRESH-INTERVAL;VALUE=DURATION:PT1H
X-Robots-Tag:noindex
X-PUBLISHED-TTL:PT1H
BEGIN:VTIMEZONE
TZID:America/New_York
BEGIN:DAYLIGHT
TZOFFSETFROM:-0500
TZOFFSETTO:-0400
TZNAME:EDT
DTSTART:20240310T070000
END:DAYLIGHT
BEGIN:STANDARD
TZOFFSETFROM:-0400
TZOFFSETTO:-0500
TZNAME:EST
DTSTART:20241103T060000
END:STANDARD
BEGIN:DAYLIGHT
TZOFFSETFROM:-0500
TZOFFSETTO:-0400
TZNAME:EDT
DTSTART:20250309T070000
END:DAYLIGHT
BEGIN:STANDARD
TZOFFSETFROM:-0400
TZOFFSETTO:-0500
TZNAME:EST
DTSTART:20251102T060000
END:STANDARD
BEGIN:DAYLIGHT
TZOFFSETFROM:-0500
TZOFFSETTO:-0400
TZNAME:EDT
DTSTART:20260308T070000
END:DAYLIGHT
BEGIN:STANDARD
TZOFFSETFROM:-0400
TZOFFSETTO:-0500
TZNAME:EST
DTSTART:20261101T060000
END:STANDARD
END:VTIMEZONE
BEGIN:VEVENT
DTSTART;TZID=America/New_York:20251024T103000
DTEND;TZID=America/New_York:20251024T123000
DTSTAMP:20260425T001652
CREATED:20250815T175235Z
LAST-MODIFIED:20250815T175235Z
UID:17136-1761301800-1761309000@cccourthouse.org
SUMMARY:Autumn Ornaments: A Craft Class for Adults
DESCRIPTION:Join staff at The Old Courthouse Heritage Museum as we create Autumn Ornaments! This is a craft class for adults hosted on Friday\, October 24th at 10:30 am. There is a $5.00 fee at the door. Sewing and no sew crafts available to create plush Fall felt ornaments. Limited supplies and spaces and class will likely fill up in advance. Please preregister by calling the museum office at (352) 341-6428.\n\nCheck in on the first floor of the museum. Please note that streetside parking is limited to 2 hours and they do ticket. We recommend parking in the lot just east of us between the museum and the sheriff station which is free all day and not ticketed just in case your time with us runs over the 2-hour mark.
URL:https://cccourthouse.org/event/autumn-ornaments-a-craft-class-for-adults/
LOCATION:Old Courthouse Heritage Museum\, 1 Courthouse Square\, Inverness\, FL\, 34450\, United States
ATTACH;FMTTYPE=image/png:https://cccourthouse.org/wp-content/uploads/2025/08/Oct-24th-Autumn-ornaments-flyer-1.png
END:VEVENT
END:VCALENDAR