BEGIN:VCALENDAR
VERSION:2.0
PRODID:-//Old Courthouse Heritage Museum - ECPv6.15.20//NONSGML v1.0//EN
CALSCALE:GREGORIAN
METHOD:PUBLISH
X-ORIGINAL-URL:https://cccourthouse.org
X-WR-CALDESC:Events for Old Courthouse Heritage Museum
REFRESH-INTERVAL;VALUE=DURATION:PT1H
X-Robots-Tag:noindex
X-PUBLISHED-TTL:PT1H
BEGIN:VTIMEZONE
TZID:America/New_York
BEGIN:DAYLIGHT
TZOFFSETFROM:-0500
TZOFFSETTO:-0400
TZNAME:EDT
DTSTART:20240310T070000
END:DAYLIGHT
BEGIN:STANDARD
TZOFFSETFROM:-0400
TZOFFSETTO:-0500
TZNAME:EST
DTSTART:20241103T060000
END:STANDARD
BEGIN:DAYLIGHT
TZOFFSETFROM:-0500
TZOFFSETTO:-0400
TZNAME:EDT
DTSTART:20250309T070000
END:DAYLIGHT
BEGIN:STANDARD
TZOFFSETFROM:-0400
TZOFFSETTO:-0500
TZNAME:EST
DTSTART:20251102T060000
END:STANDARD
BEGIN:DAYLIGHT
TZOFFSETFROM:-0500
TZOFFSETTO:-0400
TZNAME:EDT
DTSTART:20260308T070000
END:DAYLIGHT
BEGIN:STANDARD
TZOFFSETFROM:-0400
TZOFFSETTO:-0500
TZNAME:EST
DTSTART:20261101T060000
END:STANDARD
END:VTIMEZONE
BEGIN:VEVENT
DTSTART;TZID=America/New_York:20251018T130000
DTEND;TZID=America/New_York:20251018T143000
DTSTAMP:20260425T001650
CREATED:20250730T191537Z
LAST-MODIFIED:20250730T191537Z
UID:17117-1760792400-1760797800@cccourthouse.org
SUMMARY:Free for Kids: Creepy Crafternoon
DESCRIPTION:Bring the kids to The Old Courthouse Heritage Museum for a free Creepy Crafternoon! We’ll create creepy ghost garlands!\nFor kids ages 3 and up. Spaces and supplies are limited so please preregister by calling the museum office at (352) 341-6428.\nParental supervision is required for the duration of the event.\n\nOur free children’s activities take place on the 1st and 3rd Saturdays of each month which are the same days that the City of Inverness hosts the Market at the Depot down the street at Liberty Park complete with food trucks\, live music\, crafts\, and more right next to the playground. Make your Saturday a fun\, family day out in Downtown Inverness!
URL:https://cccourthouse.org/event/free-for-kids-creepy-crafternoon/
LOCATION:Old Courthouse Heritage Museum\, 1 Courthouse Square\, Inverness\, FL\, 34450\, United States
ATTACH;FMTTYPE=image/png:https://cccourthouse.org/wp-content/uploads/2025/07/creepy-crafternoon-flyer.png
END:VEVENT
END:VCALENDAR