BEGIN:VCALENDAR
VERSION:2.0
PRODID:-//Old Courthouse Heritage Museum - ECPv6.15.20//NONSGML v1.0//EN
CALSCALE:GREGORIAN
METHOD:PUBLISH
X-WR-CALNAME:Old Courthouse Heritage Museum
X-ORIGINAL-URL:https://cccourthouse.org
X-WR-CALDESC:Events for Old Courthouse Heritage Museum
REFRESH-INTERVAL;VALUE=DURATION:PT1H
X-Robots-Tag:noindex
X-PUBLISHED-TTL:PT1H
BEGIN:VTIMEZONE
TZID:America/New_York
BEGIN:DAYLIGHT
TZOFFSETFROM:-0500
TZOFFSETTO:-0400
TZNAME:EDT
DTSTART:20240310T070000
END:DAYLIGHT
BEGIN:STANDARD
TZOFFSETFROM:-0400
TZOFFSETTO:-0500
TZNAME:EST
DTSTART:20241103T060000
END:STANDARD
BEGIN:DAYLIGHT
TZOFFSETFROM:-0500
TZOFFSETTO:-0400
TZNAME:EDT
DTSTART:20250309T070000
END:DAYLIGHT
BEGIN:STANDARD
TZOFFSETFROM:-0400
TZOFFSETTO:-0500
TZNAME:EST
DTSTART:20251102T060000
END:STANDARD
BEGIN:DAYLIGHT
TZOFFSETFROM:-0500
TZOFFSETTO:-0400
TZNAME:EDT
DTSTART:20260308T070000
END:DAYLIGHT
BEGIN:STANDARD
TZOFFSETFROM:-0400
TZOFFSETTO:-0500
TZNAME:EST
DTSTART:20261101T060000
END:STANDARD
END:VTIMEZONE
BEGIN:VEVENT
DTSTART;TZID=America/New_York:20251016T190000
DTEND;TZID=America/New_York:20251016T210000
DTSTAMP:20260425T001511
CREATED:20250612T172840Z
LAST-MODIFIED:20251002T150703Z
UID:17052-1760641200-1760648400@cccourthouse.org
SUMMARY:Music at the Museum: Ricky and The Buzzcatz performing 70's Gold
DESCRIPTION:On Thursday\, October 16th\, Music at the Museum hosts Ricky and The Buzzcatz performing “70’s Gold: Am Radio Hits of Yesteryear.” Doors open at 6 pm. Come in and see the latest temporary exhibits! Show begins at 7 pm. Wear your bellbottoms and 70’s attire! Light snacks and soft drinks will be served and are included with your ticket. Citrus County Historical Society members will receive $5 off on up to 4 tickets per show.\n\nTHE BUZZCATZ have been a favorite band at special occasions and events throughout Florida for the past 20+ years. Led by frontman Ricky Sylvia\, this 10-piece band of pros always captivates and entertains their audience with an extensive repertoire that includes Jazz\, Soul\, and dance party classics. To purchase tickets online\, visit www.CCcourthouse.org/events or call the museum office for tickets or information at (352) 341-6428.
URL:https://cccourthouse.org/event/music-at-the-museum-ricky-and-the-buzzcatz-performing-70s-gold/
LOCATION:Old Courthouse Heritage Museum\, 1 Courthouse Square\, Inverness\, FL\, 34450\, United States
ATTACH;FMTTYPE=image/png:https://cccourthouse.org/wp-content/uploads/2025/06/2025-Buzzcatz-70s-Gold-flyer-2.png
END:VEVENT
END:VCALENDAR