BEGIN:VCALENDAR
VERSION:2.0
PRODID:-//Old Courthouse Heritage Museum - ECPv6.15.20//NONSGML v1.0//EN
CALSCALE:GREGORIAN
METHOD:PUBLISH
X-ORIGINAL-URL:https://cccourthouse.org
X-WR-CALDESC:Events for Old Courthouse Heritage Museum
REFRESH-INTERVAL;VALUE=DURATION:PT1H
X-Robots-Tag:noindex
X-PUBLISHED-TTL:PT1H
BEGIN:VTIMEZONE
TZID:America/New_York
BEGIN:DAYLIGHT
TZOFFSETFROM:-0500
TZOFFSETTO:-0400
TZNAME:EDT
DTSTART:20240310T070000
END:DAYLIGHT
BEGIN:STANDARD
TZOFFSETFROM:-0400
TZOFFSETTO:-0500
TZNAME:EST
DTSTART:20241103T060000
END:STANDARD
BEGIN:DAYLIGHT
TZOFFSETFROM:-0500
TZOFFSETTO:-0400
TZNAME:EDT
DTSTART:20250309T070000
END:DAYLIGHT
BEGIN:STANDARD
TZOFFSETFROM:-0400
TZOFFSETTO:-0500
TZNAME:EST
DTSTART:20251102T060000
END:STANDARD
BEGIN:DAYLIGHT
TZOFFSETFROM:-0500
TZOFFSETTO:-0400
TZNAME:EDT
DTSTART:20260308T070000
END:DAYLIGHT
BEGIN:STANDARD
TZOFFSETFROM:-0400
TZOFFSETTO:-0500
TZNAME:EST
DTSTART:20261101T060000
END:STANDARD
END:VTIMEZONE
BEGIN:VEVENT
DTSTART;TZID=America/New_York:20251009T190000
DTEND;TZID=America/New_York:20251009T203000
DTSTAMP:20260425T001753
CREATED:20250826T173427Z
LAST-MODIFIED:20250826T173427Z
UID:17281-1760036400-1760041800@cccourthouse.org
SUMMARY:Free Coffee and Conversation on Florida Horror on Film: Creatures\, Slashers\, and the Supernatural
DESCRIPTION:The Old Courthouse Heritage Museum presents a Free Coffee and Conversation on Florida Horror on Film: Creatures\, Slashers\, and the Supernatural with Dr. David Morton\, UCF Professor of History and Author of “Motion Picture Paradise: A History of Florida’s Film and Television History.”\nComplimentary coffee\, water\, and light snacks. RSVP kindly requested. To sign up\, call (352) 341-6428.\n\nFlorida Horror on Film: Creatures\, Slashers\, and the Supernatural:Florida has always had a lot of fascinating contrasts. It is a vacation wonderland where people from around the world come to bask in the sun or visit theme parks\, and it is also home to Florida man (and woman). As a state built almost solely on imagination\, it is no surprise that our imaginations have sometimes run wild when it comes to telling Florida stories on film. From the Creature from the Black Lagoon to the Skunk-Ape\, George Romero’s zombies\, and the sharks in the Jaws sequels\, all types of supernatural monsters have set up their homes in Florida. Meanwhile\, true crime stories and real-life slashers like Aileen Wuornos and Andrew Cunanan have since inspired Dexter Morgan’s Bay Harbor Butcher. Join Dr. David Morton as we delve into the dark side of Florida on film through some of the state’s most famous and favorite horror stories.
URL:https://cccourthouse.org/event/free-coffee-and-conversation-on-florida-horror-on-film-creatures-slashers-and-the-supernatural/
LOCATION:Old Courthouse Heritage Museum\, 1 Courthouse Square\, Inverness\, FL\, 34450\, United States
ATTACH;FMTTYPE=image/png:https://cccourthouse.org/wp-content/uploads/2025/08/Oct-9th-FL-Horror-History-flyer.png
END:VEVENT
END:VCALENDAR