BEGIN:VCALENDAR
VERSION:2.0
PRODID:-//Old Courthouse Heritage Museum - ECPv6.15.20//NONSGML v1.0//EN
CALSCALE:GREGORIAN
METHOD:PUBLISH
X-WR-CALNAME:Old Courthouse Heritage Museum
X-ORIGINAL-URL:https://cccourthouse.org
X-WR-CALDESC:Events for Old Courthouse Heritage Museum
REFRESH-INTERVAL;VALUE=DURATION:PT1H
X-Robots-Tag:noindex
X-PUBLISHED-TTL:PT1H
BEGIN:VTIMEZONE
TZID:America/New_York
BEGIN:DAYLIGHT
TZOFFSETFROM:-0500
TZOFFSETTO:-0400
TZNAME:EDT
DTSTART:20240310T070000
END:DAYLIGHT
BEGIN:STANDARD
TZOFFSETFROM:-0400
TZOFFSETTO:-0500
TZNAME:EST
DTSTART:20241103T060000
END:STANDARD
BEGIN:DAYLIGHT
TZOFFSETFROM:-0500
TZOFFSETTO:-0400
TZNAME:EDT
DTSTART:20250309T070000
END:DAYLIGHT
BEGIN:STANDARD
TZOFFSETFROM:-0400
TZOFFSETTO:-0500
TZNAME:EST
DTSTART:20251102T060000
END:STANDARD
BEGIN:DAYLIGHT
TZOFFSETFROM:-0500
TZOFFSETTO:-0400
TZNAME:EDT
DTSTART:20260308T070000
END:DAYLIGHT
BEGIN:STANDARD
TZOFFSETFROM:-0400
TZOFFSETTO:-0500
TZNAME:EST
DTSTART:20261101T060000
END:STANDARD
END:VTIMEZONE
BEGIN:VEVENT
DTSTART;TZID=America/New_York:20250626T190000
DTEND;TZID=America/New_York:20250626T210000
DTSTAMP:20260425T065901
CREATED:20250528T204336Z
LAST-MODIFIED:20250528T204336Z
UID:17000-1750964400-1750971600@cccourthouse.org
SUMMARY:Classic Florida Film Fest: Follow That Dream
DESCRIPTION:The Old Courthouse Heritage Museum presents “Follow That Dream” on Thursday\, June 26th at 7:00 pm inside the historic courtroom. Doors will open at 6:00 pm. This event is part of our Classic Florida Film Fest and a suggested donation for admission is $5.00. Free popcorn will be provided at showtime. Please RSVP in advance for seating: (352) 341-6428.\n“Follow That Dream” stars Elvis Presley and was filmed in parts of Citrus\, Marion\, and Levy Counties in 1961\, with the courtroom scenes made right here in our Old Courthouse. Children under 18 must be accompanied by parents to supervise them for the duration of the event.\n\nWe also recommend eventgoers stop in early to see our temporary museum exhibit on loan from Museum of Florida History entitled “Beaches\, Creatures\, and Cowboys: Florida Movie Posters.” This display from the Traveling Exhibits (TREX) program includes tons of movie poster art from films made right here in the Sunshine State through the times!
URL:https://cccourthouse.org/event/classic-florida-film-fest-follow-that-dream/
LOCATION:Old Courthouse Heritage Museum\, 1 Courthouse Square\, Inverness\, FL\, 34450\, United States
ATTACH;FMTTYPE=image/png:https://cccourthouse.org/wp-content/uploads/2025/05/Classic-Film-Fest-Follow-That-Dream.png
END:VEVENT
END:VCALENDAR