BEGIN:VCALENDAR
VERSION:2.0
PRODID:-//Old Courthouse Heritage Museum - ECPv6.15.20//NONSGML v1.0//EN
CALSCALE:GREGORIAN
METHOD:PUBLISH
X-ORIGINAL-URL:https://cccourthouse.org
X-WR-CALDESC:Events for Old Courthouse Heritage Museum
REFRESH-INTERVAL;VALUE=DURATION:PT1H
X-Robots-Tag:noindex
X-PUBLISHED-TTL:PT1H
BEGIN:VTIMEZONE
TZID:America/New_York
BEGIN:DAYLIGHT
TZOFFSETFROM:-0500
TZOFFSETTO:-0400
TZNAME:EDT
DTSTART:20240310T070000
END:DAYLIGHT
BEGIN:STANDARD
TZOFFSETFROM:-0400
TZOFFSETTO:-0500
TZNAME:EST
DTSTART:20241103T060000
END:STANDARD
BEGIN:DAYLIGHT
TZOFFSETFROM:-0500
TZOFFSETTO:-0400
TZNAME:EDT
DTSTART:20250309T070000
END:DAYLIGHT
BEGIN:STANDARD
TZOFFSETFROM:-0400
TZOFFSETTO:-0500
TZNAME:EST
DTSTART:20251102T060000
END:STANDARD
BEGIN:DAYLIGHT
TZOFFSETFROM:-0500
TZOFFSETTO:-0400
TZNAME:EDT
DTSTART:20260308T070000
END:DAYLIGHT
BEGIN:STANDARD
TZOFFSETFROM:-0400
TZOFFSETTO:-0500
TZNAME:EST
DTSTART:20261101T060000
END:STANDARD
END:VTIMEZONE
BEGIN:VEVENT
DTSTART;TZID=America/New_York:20250612T190000
DTEND;TZID=America/New_York:20250612T203000
DTSTAMP:20260425T090404
CREATED:20250528T203647Z
LAST-MODIFIED:20250528T203647Z
UID:16994-1749754800-1749760200@cccourthouse.org
SUMMARY:Classic Florida Film Fest: Creature from the Black Lagoon
DESCRIPTION:The Old Courthouse Heritage Museum presents “Creature from the Black Lagoon” on Thursday\, June 12th at 7:00 pm inside the historic courtroom. Doors will open at 6:00 pm. This event is part of our Classic Florida Film Fest and a suggested donation for admission is $5.00. Free popcorn will be provided at showtime. Please RSVP in advance for seating: (352) 341-6428.\n\nThe Creature movie was filmed in nearby Silver Springs\, and was released in 1954. Run time is 1 hour 19 minutes. Children under 18 must be accompanied by parents to supervise them for the duration of the event.\nWe also recommend eventgoers stop in early to see our temporary museum exhibit on loan from Museum of Florida History entitled “Beaches\, Creatures\, and Cowboys: Florida Movie Posters.” This display from the Traveling Exhibits (TREX) program includes tons of movie poster art from films made right here in the Sunshine State through the times!
URL:https://cccourthouse.org/event/classic-florida-film-fest-creature-from-the-black-lagoon/
LOCATION:Old Courthouse Heritage Museum\, 1 Courthouse Square\, Inverness\, FL\, 34450\, United States
ATTACH;FMTTYPE=image/png:https://cccourthouse.org/wp-content/uploads/2025/05/Classic-Florida-Film-Fest-Creature-flyer.png
END:VEVENT
END:VCALENDAR