BEGIN:VCALENDAR
VERSION:2.0
PRODID:-//Old Courthouse Heritage Museum - ECPv6.15.20//NONSGML v1.0//EN
CALSCALE:GREGORIAN
METHOD:PUBLISH
X-WR-CALNAME:Old Courthouse Heritage Museum
X-ORIGINAL-URL:https://cccourthouse.org
X-WR-CALDESC:Events for Old Courthouse Heritage Museum
REFRESH-INTERVAL;VALUE=DURATION:PT1H
X-Robots-Tag:noindex
X-PUBLISHED-TTL:PT1H
BEGIN:VTIMEZONE
TZID:America/New_York
BEGIN:DAYLIGHT
TZOFFSETFROM:-0500
TZOFFSETTO:-0400
TZNAME:EDT
DTSTART:20240310T070000
END:DAYLIGHT
BEGIN:STANDARD
TZOFFSETFROM:-0400
TZOFFSETTO:-0500
TZNAME:EST
DTSTART:20241103T060000
END:STANDARD
BEGIN:DAYLIGHT
TZOFFSETFROM:-0500
TZOFFSETTO:-0400
TZNAME:EDT
DTSTART:20250309T070000
END:DAYLIGHT
BEGIN:STANDARD
TZOFFSETFROM:-0400
TZOFFSETTO:-0500
TZNAME:EST
DTSTART:20251102T060000
END:STANDARD
BEGIN:DAYLIGHT
TZOFFSETFROM:-0500
TZOFFSETTO:-0400
TZNAME:EDT
DTSTART:20260308T070000
END:DAYLIGHT
BEGIN:STANDARD
TZOFFSETFROM:-0400
TZOFFSETTO:-0500
TZNAME:EST
DTSTART:20261101T060000
END:STANDARD
END:VTIMEZONE
BEGIN:VEVENT
DTSTART;TZID=America/New_York:20250517T130000
DTEND;TZID=America/New_York:20250517T160000
DTSTAMP:20260425T101837
CREATED:20250403T172412Z
LAST-MODIFIED:20250403T172412Z
UID:16888-1747486800-1747497600@cccourthouse.org
SUMMARY:Classic Florida Film Fest: "Flipper" (1963)
DESCRIPTION:Join us at The Old Courthouse Heritage Museum at the first film that is part of our Classic Florida Film Fest this summer! This event is free. Please RSVP in advance for seating by calling the museum office at (352) 341-6428.\n\nOn Saturday\, May 17th\, we’ll be hosting a showing of the 1963 film\, “Flipper” at 2:30 pm in the historic courtroom on the 2nd floor. For families that want to stop by earlier at 1:00 pm\, we’ll be leading a free activity with kids to create some dolphin paper crafts. Free popcorn will be given out at movie time! Run time is 90 minutes.
URL:https://cccourthouse.org/event/classic-florida-film-fest-flipper-1963/
LOCATION:Old Courthouse Heritage Museum\, 1 Courthouse Square\, Inverness\, FL\, 34450\, United States
ATTACH;FMTTYPE=image/png:https://cccourthouse.org/wp-content/uploads/2025/04/Florida-Film-Festival-Flipper.png
END:VEVENT
END:VCALENDAR