BEGIN:VCALENDAR
VERSION:2.0
PRODID:-//Old Courthouse Heritage Museum - ECPv6.15.20//NONSGML v1.0//EN
CALSCALE:GREGORIAN
METHOD:PUBLISH
X-WR-CALNAME:Old Courthouse Heritage Museum
X-ORIGINAL-URL:https://cccourthouse.org
X-WR-CALDESC:Events for Old Courthouse Heritage Museum
REFRESH-INTERVAL;VALUE=DURATION:PT1H
X-Robots-Tag:noindex
X-PUBLISHED-TTL:PT1H
BEGIN:VTIMEZONE
TZID:America/New_York
BEGIN:DAYLIGHT
TZOFFSETFROM:-0500
TZOFFSETTO:-0400
TZNAME:EDT
DTSTART:20240310T070000
END:DAYLIGHT
BEGIN:STANDARD
TZOFFSETFROM:-0400
TZOFFSETTO:-0500
TZNAME:EST
DTSTART:20241103T060000
END:STANDARD
BEGIN:DAYLIGHT
TZOFFSETFROM:-0500
TZOFFSETTO:-0400
TZNAME:EDT
DTSTART:20250309T070000
END:DAYLIGHT
BEGIN:STANDARD
TZOFFSETFROM:-0400
TZOFFSETTO:-0500
TZNAME:EST
DTSTART:20251102T060000
END:STANDARD
BEGIN:DAYLIGHT
TZOFFSETFROM:-0500
TZOFFSETTO:-0400
TZNAME:EDT
DTSTART:20260308T070000
END:DAYLIGHT
BEGIN:STANDARD
TZOFFSETFROM:-0400
TZOFFSETTO:-0500
TZNAME:EST
DTSTART:20261101T060000
END:STANDARD
END:VTIMEZONE
BEGIN:VEVENT
DTSTART;TZID=America/New_York:20250510T130000
DTEND;TZID=America/New_York:20250510T143000
DTSTAMP:20260425T101842
CREATED:20250403T133309Z
LAST-MODIFIED:20250403T133309Z
UID:16885-1746882000-1746887400@cccourthouse.org
SUMMARY:Free Children's Traveling Book Adventures: Pirates and Treasure Maps
DESCRIPTION:Join staff from the museum in a series of Children’s Traveling Book Adventures around the county led by Citrus County Parks and Recreation. On May 10th at the museum\, we will be presenting a story time about pirates\, a treasure hunt around the museum\, and pirate themed craft time. Spaces and supplies are limited so please preregister at the link below:\nhttps://anc.apm.activecommunities.com/citruscountyparks/activity/search/detail/1116\n\nThis adventure is for kids aged 3-8\, and at each stop\, there are different themes and craft activities for both the kids and their parents to enjoy.Children who complete the tour will get a bookbag filled with goodies!\n\nMonday\, May 5 Fishes and Wishes 10am to 11amParks and Recreation2804 W. Marc Knighton Court\, Lecanto\, FL 34461\n\n\nTuesday\, May 6 Bugs and Buttons 10am to 11amCitrus County Mosquito Control968 N Lecanto Hwy\, Lecanto\, FL 34461\n\nWednesday\, May 7 Blue Skies and Birds that Fly 10am to 11amCrystal River Preserve State Park3266 N Sailboat Ave\, Crystal River\, FL 34428\n\nThursday\, May 8 Manatees and the Tall Tales of the Seas 10am to 11amCrystal River National Wildlife Refuge1502 SE Kings Bay Dr\, Crystal River\, FL 34429\n\nFriday\, May 9 Tall Trees and Trails to Explore 10am to 11amWithlacoochee State Forest15003 N Broad St\, Brooksville\, FL 34601\n\nSaturday\, May 10 Pirates and Treasure Maps 1pmOld Courthouse Heritage Museum 1 Courthouse Square\, Inverness\, FL 34450\n\nKids will receive a Traveling Book Adventure Booklet to collect adventure stickers on Monday\, May 5\, at the first adventure location!\nPlease let us know you’ll be joining us by registering. Parent supervision is required!
URL:https://cccourthouse.org/event/free-childrens-traveling-book-adventures-pirates-and-treasure-maps/
LOCATION:Old Courthouse Heritage Museum\, 1 Courthouse Square\, Inverness\, FL\, 34450\, United States
ATTACH;FMTTYPE=image/png:https://cccourthouse.org/wp-content/uploads/2025/04/May-2025-Book-Adventures-Pirate-flyer.png
END:VEVENT
END:VCALENDAR