BEGIN:VCALENDAR
VERSION:2.0
PRODID:-//Old Courthouse Heritage Museum - ECPv6.15.20//NONSGML v1.0//EN
CALSCALE:GREGORIAN
METHOD:PUBLISH
X-ORIGINAL-URL:https://cccourthouse.org
X-WR-CALDESC:Events for Old Courthouse Heritage Museum
REFRESH-INTERVAL;VALUE=DURATION:PT1H
X-Robots-Tag:noindex
X-PUBLISHED-TTL:PT1H
BEGIN:VTIMEZONE
TZID:America/New_York
BEGIN:DAYLIGHT
TZOFFSETFROM:-0500
TZOFFSETTO:-0400
TZNAME:EDT
DTSTART:20240310T070000
END:DAYLIGHT
BEGIN:STANDARD
TZOFFSETFROM:-0400
TZOFFSETTO:-0500
TZNAME:EST
DTSTART:20241103T060000
END:STANDARD
BEGIN:DAYLIGHT
TZOFFSETFROM:-0500
TZOFFSETTO:-0400
TZNAME:EDT
DTSTART:20250309T070000
END:DAYLIGHT
BEGIN:STANDARD
TZOFFSETFROM:-0400
TZOFFSETTO:-0500
TZNAME:EST
DTSTART:20251102T060000
END:STANDARD
BEGIN:DAYLIGHT
TZOFFSETFROM:-0500
TZOFFSETTO:-0400
TZNAME:EDT
DTSTART:20260308T070000
END:DAYLIGHT
BEGIN:STANDARD
TZOFFSETFROM:-0400
TZOFFSETTO:-0500
TZNAME:EST
DTSTART:20261101T060000
END:STANDARD
END:VTIMEZONE
BEGIN:VEVENT
DTSTART;TZID=America/New_York:20250424T180000
DTEND;TZID=America/New_York:20250424T210000
DTSTAMP:20260425T115833
CREATED:20241228T133838Z
LAST-MODIFIED:20241228T133838Z
UID:16713-1745517600-1745528400@cccourthouse.org
SUMMARY:Music at the Museum: Johnny Wild and the Delights
DESCRIPTION:On Thursday\, April 24\, 2025\, Music at the Museum presents Johnny Wild and the Delights\, Florida’s Number One 50’s and 60’s band. They will take you back to the style and the sound of the Golden Age of music! Johnny Wild and the Delights have the energy\, charisma\, and fun to put together a great sound that does not stop until the 2-hour performance is completed.\n\n$25 tickets include food and soft drinks served between 6 pm and 7 pm as well as museum access after-hours. The show will begin at 7 pm. $5 discounts are available for members of Citrus County Historical Society on up to 4 tickets per show. The show will be held in the historic courtroom inside The Old Courthouse Heritage Museum at 1 Courthouse Square Inverness\, FL 34450.\nSeason tickets are available to everyone before or on January 16th at the latest and include priority seating for purchasing all 4 Winter and Spring 2025 shows at once. For tickets or more information\, call the museum office between Tuesday and Saturday at (352) 341-6428 or purchase them online at www.CCcourthouse.org/shop\n\nIf you purchase tickets online\, please select “pick up” as no paper tickets are mailed or distributed. Instead\, your name and number in your party will be added to a reservation list and you will be checked in at the door on the night of the show.
URL:https://cccourthouse.org/event/music-at-the-museum-johnny-wild-and-the-delights/
LOCATION:Old Courthouse Heritage Museum\, 1 Courthouse Square\, Inverness\, FL\, 34450\, United States
ATTACH;FMTTYPE=image/png:https://cccourthouse.org/wp-content/uploads/2024/12/Johnny-Wild-2025-flyer-2.png
ORGANIZER;CN="Citrus County Historical Society":MAILTO:csociety@tampabay.rr.com
END:VEVENT
END:VCALENDAR