BEGIN:VCALENDAR
VERSION:2.0
PRODID:-//Old Courthouse Heritage Museum - ECPv6.15.20//NONSGML v1.0//EN
CALSCALE:GREGORIAN
METHOD:PUBLISH
X-ORIGINAL-URL:https://cccourthouse.org
X-WR-CALDESC:Events for Old Courthouse Heritage Museum
REFRESH-INTERVAL;VALUE=DURATION:PT1H
X-Robots-Tag:noindex
X-PUBLISHED-TTL:PT1H
BEGIN:VTIMEZONE
TZID:America/New_York
BEGIN:DAYLIGHT
TZOFFSETFROM:-0500
TZOFFSETTO:-0400
TZNAME:EDT
DTSTART:20240310T070000
END:DAYLIGHT
BEGIN:STANDARD
TZOFFSETFROM:-0400
TZOFFSETTO:-0500
TZNAME:EST
DTSTART:20241103T060000
END:STANDARD
BEGIN:DAYLIGHT
TZOFFSETFROM:-0500
TZOFFSETTO:-0400
TZNAME:EDT
DTSTART:20250309T070000
END:DAYLIGHT
BEGIN:STANDARD
TZOFFSETFROM:-0400
TZOFFSETTO:-0500
TZNAME:EST
DTSTART:20251102T060000
END:STANDARD
BEGIN:DAYLIGHT
TZOFFSETFROM:-0500
TZOFFSETTO:-0400
TZNAME:EDT
DTSTART:20260308T070000
END:DAYLIGHT
BEGIN:STANDARD
TZOFFSETFROM:-0400
TZOFFSETTO:-0500
TZNAME:EST
DTSTART:20261101T060000
END:STANDARD
END:VTIMEZONE
BEGIN:VEVENT
DTSTART;TZID=America/New_York:20250325T103000
DTEND;TZID=America/New_York:20250325T123000
DTSTAMP:20260425T131547
CREATED:20250103T132731Z
LAST-MODIFIED:20250103T132731Z
UID:16737-1742898600-1742905800@cccourthouse.org
SUMMARY:Art Class for Adults: Spring Painting
DESCRIPTION:Join staff at The Old Courthouse Heritage Museum to follow along step by step to create a beautiful cherry tree painting. There is a $5 fee at the door to help cover supplies. All supplies will be provided and spaces are limited. Please preregister by phone. Call the museum office between Tuesday and Saturday at (352) 341-6428.\n\nParking around the square on weekdays is limited to two hours and tickets are often issued. Because the class may last a little longer than that\, we recommend parking to the East of the Old Courthouse in one of the parking lots which are not in a ticketed zone.
URL:https://cccourthouse.org/event/art-class-for-adults-spring-painting/
LOCATION:Old Courthouse Heritage Museum\, 1 Courthouse Square\, Inverness\, FL\, 34450\, United States
ATTACH;FMTTYPE=image/png:https://cccourthouse.org/wp-content/uploads/2025/01/March-2025-adult-painting-class.png
END:VEVENT
END:VCALENDAR