BEGIN:VCALENDAR
VERSION:2.0
PRODID:-//Old Courthouse Heritage Museum - ECPv6.15.20//NONSGML v1.0//EN
CALSCALE:GREGORIAN
METHOD:PUBLISH
X-ORIGINAL-URL:https://cccourthouse.org
X-WR-CALDESC:Events for Old Courthouse Heritage Museum
REFRESH-INTERVAL;VALUE=DURATION:PT1H
X-Robots-Tag:noindex
X-PUBLISHED-TTL:PT1H
BEGIN:VTIMEZONE
TZID:America/New_York
BEGIN:DAYLIGHT
TZOFFSETFROM:-0500
TZOFFSETTO:-0400
TZNAME:EDT
DTSTART:20240310T070000
END:DAYLIGHT
BEGIN:STANDARD
TZOFFSETFROM:-0400
TZOFFSETTO:-0500
TZNAME:EST
DTSTART:20241103T060000
END:STANDARD
BEGIN:DAYLIGHT
TZOFFSETFROM:-0500
TZOFFSETTO:-0400
TZNAME:EDT
DTSTART:20250309T070000
END:DAYLIGHT
BEGIN:STANDARD
TZOFFSETFROM:-0400
TZOFFSETTO:-0500
TZNAME:EST
DTSTART:20251102T060000
END:STANDARD
BEGIN:DAYLIGHT
TZOFFSETFROM:-0500
TZOFFSETTO:-0400
TZNAME:EDT
DTSTART:20260308T070000
END:DAYLIGHT
BEGIN:STANDARD
TZOFFSETFROM:-0400
TZOFFSETTO:-0500
TZNAME:EST
DTSTART:20261101T060000
END:STANDARD
END:VTIMEZONE
BEGIN:VEVENT
DTSTART;TZID=America/New_York:20250201T100000
DTEND;TZID=America/New_York:20250201T120000
DTSTAMP:20260425T144909
CREATED:20241226T201256Z
LAST-MODIFIED:20241226T201256Z
UID:16683-1738404000-1738411200@cccourthouse.org
SUMMARY:Free Kids' Event: Wildlife Enrichment Day
DESCRIPTION:Citrus County Parks and Recreation and Old Courthouse Heritage Museum partnered up to help volunteers from The Friends of Homosassa Springs Wildlife Park with a super cool craft project! We’ll be making enrichment crafts that help the animals at Homosassa Springs Wildlife Park stay entertained and stimulate their natural behaviors. So bring your wildness and “Get Crafty for Wildlife”! Please note this event will be hosted at another site: The Citrus County Canning Center- located at 3405 W Southern Street Lecanto\, FL 34461.\nPlease RSVP by calling Citrus County Parks and Recreation Administration Office at 352-527-7540This is a family event\, and parent supervision is required.
URL:https://cccourthouse.org/event/free-kids-event-wildlife-enrichment-day/
LOCATION:FL
ATTACH;FMTTYPE=image/jpeg:https://cccourthouse.org/wp-content/uploads/2024/12/Wildlife-Enrichment-Day-Feb-1st.jpg
ORGANIZER;CN="Citrus County Parks and Recreation":MAILTO:museum@citrusbocc.com
END:VEVENT
END:VCALENDAR