BEGIN:VCALENDAR
VERSION:2.0
PRODID:-//Old Courthouse Heritage Museum - ECPv6.15.20//NONSGML v1.0//EN
CALSCALE:GREGORIAN
METHOD:PUBLISH
X-WR-CALNAME:Old Courthouse Heritage Museum
X-ORIGINAL-URL:https://cccourthouse.org
X-WR-CALDESC:Events for Old Courthouse Heritage Museum
REFRESH-INTERVAL;VALUE=DURATION:PT1H
X-Robots-Tag:noindex
X-PUBLISHED-TTL:PT1H
BEGIN:VTIMEZONE
TZID:America/New_York
BEGIN:DAYLIGHT
TZOFFSETFROM:-0500
TZOFFSETTO:-0400
TZNAME:EDT
DTSTART:20230312T070000
END:DAYLIGHT
BEGIN:STANDARD
TZOFFSETFROM:-0400
TZOFFSETTO:-0500
TZNAME:EST
DTSTART:20231105T060000
END:STANDARD
BEGIN:DAYLIGHT
TZOFFSETFROM:-0500
TZOFFSETTO:-0400
TZNAME:EDT
DTSTART:20240310T070000
END:DAYLIGHT
BEGIN:STANDARD
TZOFFSETFROM:-0400
TZOFFSETTO:-0500
TZNAME:EST
DTSTART:20241103T060000
END:STANDARD
BEGIN:DAYLIGHT
TZOFFSETFROM:-0500
TZOFFSETTO:-0400
TZNAME:EDT
DTSTART:20250309T070000
END:DAYLIGHT
BEGIN:STANDARD
TZOFFSETFROM:-0400
TZOFFSETTO:-0500
TZNAME:EST
DTSTART:20251102T060000
END:STANDARD
END:VTIMEZONE
BEGIN:VEVENT
DTSTART;TZID=America/New_York:20241208T150000
DTEND;TZID=America/New_York:20241208T173000
DTSTAMP:20260425T173032
CREATED:20240912T131139Z
LAST-MODIFIED:20240912T131139Z
UID:16485-1733670000-1733679000@cccourthouse.org
SUMMARY:Music at the Museum: Greta Pope and the Marco Bojorquez Trio
DESCRIPTION:Join us inside the historic courtroom of The Old Courthouse Heritage Museum for a holiday concert celebration with Greta Pope and the Marco Bojorquez Trio! Touted one of the great voices of our time from Jazz to Opera\, and Rhythm & Blues to Broadway\, Ms. Pope has performed with Wynonna Judd\, Dick Van Dyke\, Stanley Clarke\, Penn & Teller\, Boy George & more!\nSunday\, December 8th. Doors open at 3 pm and the show begins at 4 pm. $25 ticket includes food and soft drinks\, which will be served at 3 pm and concert goers can enjoy after hours museum access including a temporary exhibit of Art Teacher Art from Citrus County.\n\n$5 discounts are available for historical society members for up to 4 tickets per show. Season tickets are available to everyone before or on September 19th at the latest and include priority seating for purchasing all 3 Fall shows at once. For tickets or more information\, call the museum at (352) 341-6428.
URL:https://cccourthouse.org/event/music-at-the-museum-greta-pope-and-the-marco-bojorquez-trio/
LOCATION:Old Courthouse Heritage Museum\, 1 Courthouse Square\, Inverness\, FL\, 34450\, United States
ATTACH;FMTTYPE=image/png:https://cccourthouse.org/wp-content/uploads/2024/09/Greta-Pope-2024-3.png
END:VEVENT
END:VCALENDAR