BEGIN:VCALENDAR
VERSION:2.0
PRODID:-//Old Courthouse Heritage Museum - ECPv6.15.20//NONSGML v1.0//EN
CALSCALE:GREGORIAN
METHOD:PUBLISH
X-WR-CALNAME:Old Courthouse Heritage Museum
X-ORIGINAL-URL:https://cccourthouse.org
X-WR-CALDESC:Events for Old Courthouse Heritage Museum
REFRESH-INTERVAL;VALUE=DURATION:PT1H
X-Robots-Tag:noindex
X-PUBLISHED-TTL:PT1H
BEGIN:VTIMEZONE
TZID:America/New_York
BEGIN:DAYLIGHT
TZOFFSETFROM:-0500
TZOFFSETTO:-0400
TZNAME:EDT
DTSTART:20230312T070000
END:DAYLIGHT
BEGIN:STANDARD
TZOFFSETFROM:-0400
TZOFFSETTO:-0500
TZNAME:EST
DTSTART:20231105T060000
END:STANDARD
BEGIN:DAYLIGHT
TZOFFSETFROM:-0500
TZOFFSETTO:-0400
TZNAME:EDT
DTSTART:20240310T070000
END:DAYLIGHT
BEGIN:STANDARD
TZOFFSETFROM:-0400
TZOFFSETTO:-0500
TZNAME:EST
DTSTART:20241103T060000
END:STANDARD
BEGIN:DAYLIGHT
TZOFFSETFROM:-0500
TZOFFSETTO:-0400
TZNAME:EDT
DTSTART:20250309T070000
END:DAYLIGHT
BEGIN:STANDARD
TZOFFSETFROM:-0400
TZOFFSETTO:-0500
TZNAME:EST
DTSTART:20251102T060000
END:STANDARD
END:VTIMEZONE
BEGIN:VEVENT
DTSTART;TZID=America/New_York:20241207T100000
DTEND;TZID=America/New_York:20241207T113000
DTSTAMP:20260425T173915
CREATED:20240912T130010Z
LAST-MODIFIED:20240912T130010Z
UID:16476-1733565600-1733571000@cccourthouse.org
SUMMARY:Free Kids' Event: Holiday Wreath Creations
DESCRIPTION:On Saturday\, December 7th at 10 am\, bring the kids to The Old Courthouse Heritage Museum to create a holiday wreath. Join staff from Citrus County Parks and Recreation and the museum who will show kids how to tie bows and more.\n\nFor kids ages 3 and up. Younger children will require assistance if you choose to use the hot glue gun. All children must be supervised for the duration of the event. Spaces and supplies are limited so please preregister to insure your spots. Call the museum office between Tuesday and Saturday in advance at (352) 341-6428 to sign up.
URL:https://cccourthouse.org/event/free-kids-event-holiday-wreath-creations/
LOCATION:Old Courthouse Heritage Museum\, 1 Courthouse Square\, Inverness\, FL\, 34450\, United States
ATTACH;FMTTYPE=image/png:https://cccourthouse.org/wp-content/uploads/2024/09/Kids-Holiday-Wreath-Creations.png
END:VEVENT
END:VCALENDAR