BEGIN:VCALENDAR
VERSION:2.0
PRODID:-//Old Courthouse Heritage Museum - ECPv6.15.20//NONSGML v1.0//EN
CALSCALE:GREGORIAN
METHOD:PUBLISH
X-ORIGINAL-URL:https://cccourthouse.org
X-WR-CALDESC:Events for Old Courthouse Heritage Museum
REFRESH-INTERVAL;VALUE=DURATION:PT1H
X-Robots-Tag:noindex
X-PUBLISHED-TTL:PT1H
BEGIN:VTIMEZONE
TZID:America/New_York
BEGIN:DAYLIGHT
TZOFFSETFROM:-0500
TZOFFSETTO:-0400
TZNAME:EDT
DTSTART:20230312T070000
END:DAYLIGHT
BEGIN:STANDARD
TZOFFSETFROM:-0400
TZOFFSETTO:-0500
TZNAME:EST
DTSTART:20231105T060000
END:STANDARD
BEGIN:DAYLIGHT
TZOFFSETFROM:-0500
TZOFFSETTO:-0400
TZNAME:EDT
DTSTART:20240310T070000
END:DAYLIGHT
BEGIN:STANDARD
TZOFFSETFROM:-0400
TZOFFSETTO:-0500
TZNAME:EST
DTSTART:20241103T060000
END:STANDARD
BEGIN:DAYLIGHT
TZOFFSETFROM:-0500
TZOFFSETTO:-0400
TZNAME:EDT
DTSTART:20250309T070000
END:DAYLIGHT
BEGIN:STANDARD
TZOFFSETFROM:-0400
TZOFFSETTO:-0500
TZNAME:EST
DTSTART:20251102T060000
END:STANDARD
END:VTIMEZONE
BEGIN:VEVENT
DTSTART;TZID=America/New_York:20240918T100000
DTEND;TZID=America/New_York:20240918T113000
DTSTAMP:20260425T212658
CREATED:20240529T125116Z
LAST-MODIFIED:20240529T125116Z
UID:16197-1726653600-1726659000@cccourthouse.org
SUMMARY:Free Kids' Event: Journaling in Nature
DESCRIPTION:Join our newest museum volunteers\, AJ and John Boener from A Wild Family\, as they present a Mindful Summer Series with free events for kids!\nOn Wednesday\, September 18th at 10 am and again at 1 pm\, they will lead kids in a story time and nature walk outside to identify and sketch nature with confidence\, understanding that everyone is an artist\, and that presence and curiosity are your greatest assets. Recommended for ages 5 to 12. Limited spaces so please call the museum to sign up at (352) 341-6428.\n——————————–More background:In short…..We (John & AJ) met in 2006\, & lived in Plymouth\, IN at our permaculture-based\, educational farm; Luna Hill Farm (Cultivating Community & Celebrating Curiosity) for 10 years\, where we raised 4 kids\, ran the Luna Hill Wild School (Nuturing Wonder\, with Nature)\, & hosted many community-building events. Away from the farm\, John worked as a carpenter & AJ taught various classes throughout the community. We sold the farm in 2022\, converted a bus to a RV in 3 1/2 months\, then hit the road to travel the US for 6 months. We lived & traveled for over a year in that home-on-wheels; volunteering\, exploring\, & learning so much!Read more about our story: www.awildfamily.com
URL:https://cccourthouse.org/event/free-kids-event-journaling-in-nature/
LOCATION:Old Courthouse Heritage Museum\, 1 Courthouse Square\, Inverness\, FL\, 34450\, United States
ATTACH;FMTTYPE=image/png:https://cccourthouse.org/wp-content/uploads/2024/05/Summer-Mindful-Flyer-3-3.png
END:VEVENT
BEGIN:VEVENT
DTSTART;TZID=America/New_York:20240918T130000
DTEND;TZID=America/New_York:20240918T143000
DTSTAMP:20260425T212659
CREATED:20240529T125320Z
LAST-MODIFIED:20240529T125320Z
UID:16200-1726664400-1726669800@cccourthouse.org
SUMMARY:Free Kids' Event: Journaling in Nature
DESCRIPTION:Join our newest museum volunteers\, AJ and John Boener from A Wild Family\, as they present a Mindful Summer Series with free events for kids!\nOn Wednesday\, September 18th at 10 am and again at 1 pm\, they will lead kids in a story time and nature walk outside to identify and sketch nature with confidence\, understanding that everyone is an artist\, and that presence and curiosity are your greatest assets. Recommended for ages 5 to 12. Limited spaces so please call the museum to sign up at (352) 341-6428.\n——————————–More background:In short…..We (John & AJ) met in 2006\, & lived in Plymouth\, IN at our permaculture-based\, educational farm; Luna Hill Farm (Cultivating Community & Celebrating Curiosity) for 10 years\, where we raised 4 kids\, ran the Luna Hill Wild School (Nuturing Wonder\, with Nature)\, & hosted many community-building events. Away from the farm\, John worked as a carpenter & AJ taught various classes throughout the community. We sold the farm in 2022\, converted a bus to a RV in 3 1/2 months\, then hit the road to travel the US for 6 months. We lived & traveled for over a year in that home-on-wheels; volunteering\, exploring\, & learning so much!Read more about our story: www.awildfamily.com
URL:https://cccourthouse.org/event/free-kids-event-journaling-in-nature-2/
LOCATION:Old Courthouse Heritage Museum\, 1 Courthouse Square\, Inverness\, FL\, 34450\, United States
ATTACH;FMTTYPE=image/png:https://cccourthouse.org/wp-content/uploads/2024/05/Summer-Mindful-Flyer-3-3.png
END:VEVENT
END:VCALENDAR