BEGIN:VCALENDAR
VERSION:2.0
PRODID:-//Old Courthouse Heritage Museum - ECPv6.15.20//NONSGML v1.0//EN
CALSCALE:GREGORIAN
METHOD:PUBLISH
X-ORIGINAL-URL:https://cccourthouse.org
X-WR-CALDESC:Events for Old Courthouse Heritage Museum
REFRESH-INTERVAL;VALUE=DURATION:PT1H
X-Robots-Tag:noindex
X-PUBLISHED-TTL:PT1H
BEGIN:VTIMEZONE
TZID:America/New_York
BEGIN:DAYLIGHT
TZOFFSETFROM:-0500
TZOFFSETTO:-0400
TZNAME:EDT
DTSTART:20230312T070000
END:DAYLIGHT
BEGIN:STANDARD
TZOFFSETFROM:-0400
TZOFFSETTO:-0500
TZNAME:EST
DTSTART:20231105T060000
END:STANDARD
BEGIN:DAYLIGHT
TZOFFSETFROM:-0500
TZOFFSETTO:-0400
TZNAME:EDT
DTSTART:20240310T070000
END:DAYLIGHT
BEGIN:STANDARD
TZOFFSETFROM:-0400
TZOFFSETTO:-0500
TZNAME:EST
DTSTART:20241103T060000
END:STANDARD
BEGIN:DAYLIGHT
TZOFFSETFROM:-0500
TZOFFSETTO:-0400
TZNAME:EDT
DTSTART:20250309T070000
END:DAYLIGHT
BEGIN:STANDARD
TZOFFSETFROM:-0400
TZOFFSETTO:-0500
TZNAME:EST
DTSTART:20251102T060000
END:STANDARD
END:VTIMEZONE
BEGIN:VEVENT
DTSTART;TZID=America/New_York:20240914T090000
DTEND;TZID=America/New_York:20240914T100000
DTSTAMP:20260425T210821
CREATED:20240521T191541Z
LAST-MODIFIED:20240521T191541Z
UID:16186-1726304400-1726308000@cccourthouse.org
SUMMARY:Inverness Walks: Historic Downtown Walking Tour
DESCRIPTION:Join staff from The Old Courthouse Heritage Museum and Citrus County Historical Society for our monthly Historic Downtown Walking Tour. Together\, we’ll explore the downtown area and you’ll learn the history of the who\, how\, and why of the buildings around the Downtown Square. At 9 am every second Saturday of the month. Tour lasts for about an hour. $5 suggested donation for adults and $2 for children. Spaces are limited. Please RSVP by calling our office between Tuesday and Saturday at (352) 341-6428.
URL:https://cccourthouse.org/event/inverness-walks-historic-downtown-walking-tour-17/
LOCATION:Old Courthouse Heritage Museum\, 1 Courthouse Square\, Inverness\, FL\, 34450\, United States
ATTACH;FMTTYPE=image/png:https://cccourthouse.org/wp-content/uploads/2023/12/Inverness-Walks-Flyer.png
END:VEVENT
BEGIN:VEVENT
DTSTART;TZID=America/New_York:20240914T090000
DTEND;TZID=America/New_York:20240914T150000
DTSTAMP:20260425T210821
CREATED:20240629T193723Z
LAST-MODIFIED:20240629T193723Z
UID:16291-1726304400-1726326000@cccourthouse.org
SUMMARY:2nd Annual Outdoors Expo hosted by Citrus County Parks and Recreation
DESCRIPTION:Learn about outdoor activities that our County has to offer! Just show up! \nLearn about: \nsports and leagues\nmotocross and 4-wheeling\nwalking and biking clubs\neducation and conservation\nfishing and hunting\nboating and kayaking\ncamping and hiking\nbirding and gardening\nnature and sports photography \nAnd the museum will have our booth about our nature classes and more! \nFor exhibitors’ application contact: Recreation Program Specialist Alice Mary Herden at (352) 527-7540. \n\nCitrus County Parks and Recreation invites exhibitors to participate in the 2nd Annual Parks and Recreation Outdoors Expo. If your organization\, business\, club\, or group is involved in outdoor recreation\, we want to hear from you.\n\n\n\nThe mission of the Outdoors Expo is to encourage communities and their residents to explore the benefits of participating in outdoor activities\, as well as to learn and engage in different opportunities available.\n\n\nSpending time outdoors has a significant impact on an individual’s health and well-being. Whether it’s painting scenic estuaries on canvas by the pier or meeting with friends for a friendly competitive game of basketball\, being outdoors promotes a healthy lifestyle and wellness in the community.\n\n\n\nCitrus County boasts a wealth of blue and green spaces that offer a diverse range of recreational activities for people of all ages and interests. These spaces serve as venues for gathering with friends and family and connecting with the larger community. Join us and help others find their outdoors.\n\n\n\nParks and Recreation Outdoors Expo\nSpeakers | Indoor and Outdoor Exhibits | Activities\nLocation: Citrus Springs Community Center\, 1570 West Citrus Springs Boulevard\, Citrus Springs\, FL 34434\nDate & Time: September 14\, 2024 | 9am – 3pm\nFor more information\, contact Recreation Program Specialist Alice Mary Herden at 352-527-7540 or Alice.Herden@citrusbocc.com
URL:https://cccourthouse.org/event/2nd-annual-outdoors-expo-hosted-by-citrus-county-parks-and-recreation/
LOCATION:Citrus Springs Community Center\, 1570 West Citrus Springs Blvd\, Citrus Springs\, FL\, United States
ATTACH;FMTTYPE=image/jpeg:https://cccourthouse.org/wp-content/uploads/2024/06/Sept-14-2024-Outdoors-Expo-flyer.jpg
ORGANIZER;CN="Citrus County Parks and Recreation":MAILTO:museum@citrusbocc.com
END:VEVENT
BEGIN:VEVENT
DTSTART;TZID=America/New_York:20240914T100000
DTEND;TZID=America/New_York:20240914T110000
DTSTAMP:20260425T210821
CREATED:20240629T192325Z
LAST-MODIFIED:20240629T192325Z
UID:16288-1726308000-1726311600@cccourthouse.org
SUMMARY:Free Kids' Event: Elvis Music Class
DESCRIPTION:Join us at The Old Courthouse Heritage Museum with music instructor Amy Clovis as we present a Free Elvis Music Class for kids ages 1 to 6!\nKids will learn about Elvis songs and play instruments along to the music. Limited spaces. Please preregister by calling our museum office between Tuesday and Saturday at (352) 341-6428. Our classes often fill up in advance so showing up the day of the event without registering will not guarantee you a space. Parents and accompanying adults supervise and participate with your children for the duration of the program.\n\nGet ready to rock and roll!
URL:https://cccourthouse.org/event/free-kids-event-elvis-music-class/
LOCATION:Old Courthouse Heritage Museum\, 1 Courthouse Square\, Inverness\, FL\, 34450\, United States
ATTACH;FMTTYPE=image/png:https://cccourthouse.org/wp-content/uploads/2024/06/Elvis-Music-Class_Sept-14.png
END:VEVENT
END:VCALENDAR