BEGIN:VCALENDAR
VERSION:2.0
PRODID:-//Old Courthouse Heritage Museum - ECPv6.15.20//NONSGML v1.0//EN
CALSCALE:GREGORIAN
METHOD:PUBLISH
X-ORIGINAL-URL:https://cccourthouse.org
X-WR-CALDESC:Events for Old Courthouse Heritage Museum
REFRESH-INTERVAL;VALUE=DURATION:PT1H
X-Robots-Tag:noindex
X-PUBLISHED-TTL:PT1H
BEGIN:VTIMEZONE
TZID:America/New_York
BEGIN:DAYLIGHT
TZOFFSETFROM:-0500
TZOFFSETTO:-0400
TZNAME:EDT
DTSTART:20230312T070000
END:DAYLIGHT
BEGIN:STANDARD
TZOFFSETFROM:-0400
TZOFFSETTO:-0500
TZNAME:EST
DTSTART:20231105T060000
END:STANDARD
BEGIN:DAYLIGHT
TZOFFSETFROM:-0500
TZOFFSETTO:-0400
TZNAME:EDT
DTSTART:20240310T070000
END:DAYLIGHT
BEGIN:STANDARD
TZOFFSETFROM:-0400
TZOFFSETTO:-0500
TZNAME:EST
DTSTART:20241103T060000
END:STANDARD
BEGIN:DAYLIGHT
TZOFFSETFROM:-0500
TZOFFSETTO:-0400
TZNAME:EDT
DTSTART:20250309T070000
END:DAYLIGHT
BEGIN:STANDARD
TZOFFSETFROM:-0400
TZOFFSETTO:-0500
TZNAME:EST
DTSTART:20251102T060000
END:STANDARD
END:VTIMEZONE
BEGIN:VEVENT
DTSTART;TZID=America/New_York:20240912T190000
DTEND;TZID=America/New_York:20240912T203000
DTSTAMP:20260425T225013
CREATED:20240629T191257Z
LAST-MODIFIED:20240629T191257Z
UID:16285-1726167600-1726173000@cccourthouse.org
SUMMARY:Free Coffee and Conversations: Making a Way Out of No Way
DESCRIPTION:The Old Courthouse Heritage Museum presents a Free Coffee and Conversation on Thursday\, September 12th at 7 pm called “Making a Way Out of No Way.”\nThe event will include coffee and light refreshments. Please RSVP in advance as seating is limited and space may fill up. Call (352) 341-6428.\n\n“Making a Way Out of No Way” is a popular African-American expression. Join us for an evening of storytelling as Dr. Martha Bireda\, portraying pioneer Queen Andrews\, answers questions posed by W.E.B. DuBois regarding the agency and joy expressed by African-Americans during Jim Crow\, including the values\, virtue\, creativity and resilience in the community.\n\nFunding for this program was provided through a grant from Florida Humanities with funds from the National Endowment for the Humanities. Any views expressed in this program do not necessarily represent those of Florida Humanities\, The National Endowment for the Humanities\, or the host institution.
URL:https://cccourthouse.org/event/free-coffee-and-conversations-making-a-way-out-of-no-way/
LOCATION:Old Courthouse Heritage Museum\, 1 Courthouse Square\, Inverness\, FL\, 34450\, United States
ATTACH;FMTTYPE=image/png:https://cccourthouse.org/wp-content/uploads/2024/06/September-2024-Making-a-Way-Out-of-Now-Way-1.png
END:VEVENT
END:VCALENDAR